BEGIN:VCALENDAR
VERSION:2.0
PRODID:-//Boardwalk Billy&#039;s - ECPv6.15.20//NONSGML v1.0//EN
CALSCALE:GREGORIAN
METHOD:PUBLISH
X-WR-CALNAME:Boardwalk Billy&#039;s
X-ORIGINAL-URL:https://boardwalkbillysnmb.com
X-WR-CALDESC:Events for Boardwalk Billy&#039;s
REFRESH-INTERVAL;VALUE=DURATION:PT1H
X-Robots-Tag:noindex
X-PUBLISHED-TTL:PT1H
BEGIN:VTIMEZONE
TZID:America/New_York
BEGIN:DAYLIGHT
TZOFFSETFROM:-0500
TZOFFSETTO:-0400
TZNAME:EDT
DTSTART:20230312T070000
END:DAYLIGHT
BEGIN:STANDARD
TZOFFSETFROM:-0400
TZOFFSETTO:-0500
TZNAME:EST
DTSTART:20231105T060000
END:STANDARD
BEGIN:DAYLIGHT
TZOFFSETFROM:-0500
TZOFFSETTO:-0400
TZNAME:EDT
DTSTART:20240310T070000
END:DAYLIGHT
BEGIN:STANDARD
TZOFFSETFROM:-0400
TZOFFSETTO:-0500
TZNAME:EST
DTSTART:20241103T060000
END:STANDARD
BEGIN:DAYLIGHT
TZOFFSETFROM:-0500
TZOFFSETTO:-0400
TZNAME:EDT
DTSTART:20250309T070000
END:DAYLIGHT
BEGIN:STANDARD
TZOFFSETFROM:-0400
TZOFFSETTO:-0500
TZNAME:EST
DTSTART:20251102T060000
END:STANDARD
BEGIN:DAYLIGHT
TZOFFSETFROM:-0500
TZOFFSETTO:-0400
TZNAME:EDT
DTSTART:20260308T070000
END:DAYLIGHT
BEGIN:STANDARD
TZOFFSETFROM:-0400
TZOFFSETTO:-0500
TZNAME:EST
DTSTART:20261101T060000
END:STANDARD
END:VTIMEZONE
BEGIN:VEVENT
DTSTART;TZID=America/New_York:20250124T180000
DTEND;TZID=America/New_York:20250124T210000
DTSTAMP:20260419T142543
CREATED:20241230T133657Z
LAST-MODIFIED:20241230T133657Z
UID:10000612-1737741600-1737752400@boardwalkbillysnmb.com
SUMMARY:Rob Cole
DESCRIPTION:
URL:https://boardwalkbillysnmb.com/event/rob-cole/2025-01-24/
LOCATION:Boardwalk Billy’s\, 1407 13th Ave N\, North Myrtle Beach\, SC\, 29582\, United States
CATEGORIES:Live Music
END:VEVENT
BEGIN:VEVENT
DTSTART;TZID=America/New_York:20250123T170000
DTEND;TZID=America/New_York:20250123T200000
DTSTAMP:20260419T142543
CREATED:20241230T132957Z
LAST-MODIFIED:20241230T132957Z
UID:10000597-1737651600-1737662400@boardwalkbillysnmb.com
SUMMARY:Stan Gregory
DESCRIPTION:
URL:https://boardwalkbillysnmb.com/event/stan-gregory-3/2025-01-23/
LOCATION:Boardwalk Billy’s\, 1407 13th Ave N\, North Myrtle Beach\, SC\, 29582\, United States
CATEGORIES:Live Music
END:VEVENT
BEGIN:VEVENT
DTSTART;TZID=America/New_York:20250122T170000
DTEND;TZID=America/New_York:20250122T200000
DTSTAMP:20260419T142543
CREATED:20241230T133316Z
LAST-MODIFIED:20241230T133338Z
UID:10000604-1737565200-1737576000@boardwalkbillysnmb.com
SUMMARY:Randy Atwood Duo
DESCRIPTION:
URL:https://boardwalkbillysnmb.com/event/randy-atwood-duo/2025-01-22/
LOCATION:Boardwalk Billy’s\, 1407 13th Ave N\, North Myrtle Beach\, SC\, 29582\, United States
CATEGORIES:Live Music
END:VEVENT
BEGIN:VEVENT
DTSTART;TZID=America/New_York:20250121T170000
DTEND;TZID=America/New_York:20250121T200000
DTSTAMP:20260419T142543
CREATED:20241230T134053Z
LAST-MODIFIED:20241230T134053Z
UID:10000619-1737478800-1737489600@boardwalkbillysnmb.com
SUMMARY:Owen Reeves
DESCRIPTION:
URL:https://boardwalkbillysnmb.com/event/owen-reeves/
LOCATION:Boardwalk Billy’s\, 1407 13th Ave N\, North Myrtle Beach\, SC\, 29582\, United States
CATEGORIES:Live Music
END:VEVENT
BEGIN:VEVENT
DTSTART;TZID=America/New_York:20250120T170000
DTEND;TZID=America/New_York:20250120T200000
DTSTAMP:20260419T142543
CREATED:20241230T134026Z
LAST-MODIFIED:20241230T134026Z
UID:10000618-1737392400-1737403200@boardwalkbillysnmb.com
SUMMARY:Randy McQuay
DESCRIPTION:
URL:https://boardwalkbillysnmb.com/event/randy-mcquay/
LOCATION:Boardwalk Billy’s\, 1407 13th Ave N\, North Myrtle Beach\, SC\, 29582\, United States
CATEGORIES:Live Music
END:VEVENT
BEGIN:VEVENT
DTSTART;TZID=America/New_York:20250119T170000
DTEND;TZID=America/New_York:20250119T200000
DTSTAMP:20260419T142543
CREATED:20241230T133957Z
LAST-MODIFIED:20241230T133957Z
UID:10000617-1737306000-1737316800@boardwalkbillysnmb.com
SUMMARY:Prettier Than Matt
DESCRIPTION:
URL:https://boardwalkbillysnmb.com/event/prettier-than-matt-2/
LOCATION:Boardwalk Billy’s\, 1407 13th Ave N\, North Myrtle Beach\, SC\, 29582\, United States
CATEGORIES:Live Music
END:VEVENT
BEGIN:VEVENT
DTSTART;TZID=America/New_York:20250118T180000
DTEND;TZID=America/New_York:20250118T210000
DTSTAMP:20260419T142543
CREATED:20241230T133927Z
LAST-MODIFIED:20241230T133927Z
UID:10000616-1737223200-1737234000@boardwalkbillysnmb.com
SUMMARY:Roadtrip Radio Duo
DESCRIPTION:
URL:https://boardwalkbillysnmb.com/event/roadtrip-radio-duo/
LOCATION:Boardwalk Billy’s\, 1407 13th Ave N\, North Myrtle Beach\, SC\, 29582\, United States
CATEGORIES:Live Music
END:VEVENT
BEGIN:VEVENT
DTSTART;TZID=America/New_York:20250117T180000
DTEND;TZID=America/New_York:20250117T210000
DTSTAMP:20260419T142543
CREATED:20241230T133805Z
LAST-MODIFIED:20241230T133805Z
UID:10000615-1737136800-1737147600@boardwalkbillysnmb.com
SUMMARY:If Birds Could Fly
DESCRIPTION:
URL:https://boardwalkbillysnmb.com/event/if-birds-could-fly/
LOCATION:Boardwalk Billy’s\, 1407 13th Ave N\, North Myrtle Beach\, SC\, 29582\, United States
CATEGORIES:Live Music
END:VEVENT
BEGIN:VEVENT
DTSTART;TZID=America/New_York:20250116T170000
DTEND;TZID=America/New_York:20250116T200000
DTSTAMP:20260419T142543
CREATED:20241230T133735Z
LAST-MODIFIED:20241230T133735Z
UID:10000613-1737046800-1737057600@boardwalkbillysnmb.com
SUMMARY:Mark McKinney & Co.
DESCRIPTION:
URL:https://boardwalkbillysnmb.com/event/mark-mckinney-co/2025-01-16/
LOCATION:Boardwalk Billy’s\, 1407 13th Ave N\, North Myrtle Beach\, SC\, 29582\, United States
CATEGORIES:Live Music
END:VEVENT
BEGIN:VEVENT
DTSTART;TZID=America/New_York:20250115T170000
DTEND;TZID=America/New_York:20250115T200000
DTSTAMP:20260419T142543
CREATED:20241230T133657Z
LAST-MODIFIED:20241230T133657Z
UID:10000611-1736960400-1736971200@boardwalkbillysnmb.com
SUMMARY:Rob Cole
DESCRIPTION:
URL:https://boardwalkbillysnmb.com/event/rob-cole/2025-01-15/
LOCATION:Boardwalk Billy’s\, 1407 13th Ave N\, North Myrtle Beach\, SC\, 29582\, United States
CATEGORIES:Live Music
END:VEVENT
BEGIN:VEVENT
DTSTART;TZID=America/New_York:20250114T170000
DTEND;TZID=America/New_York:20250114T200000
DTSTAMP:20260419T142543
CREATED:20241230T133618Z
LAST-MODIFIED:20250110T185240Z
UID:10000609-1736874000-1736884800@boardwalkbillysnmb.com
SUMMARY:Seth Thomas & Jonathan Locklear
DESCRIPTION:
URL:https://boardwalkbillysnmb.com/event/seth-thomas-jonathan-locklear/2025-01-14/
LOCATION:Boardwalk Billy’s\, 1407 13th Ave N\, North Myrtle Beach\, SC\, 29582\, United States
CATEGORIES:Live Music
END:VEVENT
BEGIN:VEVENT
DTSTART;TZID=America/New_York:20250113T170000
DTEND;TZID=America/New_York:20250113T200000
DTSTAMP:20260419T142543
CREATED:20241230T133537Z
LAST-MODIFIED:20241230T133537Z
UID:10000608-1736787600-1736798400@boardwalkbillysnmb.com
SUMMARY:Cameron Nesbitt
DESCRIPTION:
URL:https://boardwalkbillysnmb.com/event/cameron-nesbitt/
LOCATION:Boardwalk Billy’s\, 1407 13th Ave N\, North Myrtle Beach\, SC\, 29582\, United States
CATEGORIES:Live Music
END:VEVENT
BEGIN:VEVENT
DTSTART;TZID=America/New_York:20250112T170000
DTEND;TZID=America/New_York:20250112T200000
DTSTAMP:20260419T142543
CREATED:20241230T133504Z
LAST-MODIFIED:20241230T133504Z
UID:10000607-1736701200-1736712000@boardwalkbillysnmb.com
SUMMARY:Brandon Clark Duo
DESCRIPTION:
URL:https://boardwalkbillysnmb.com/event/brandon-clark-duo/
LOCATION:Boardwalk Billy’s\, 1407 13th Ave N\, North Myrtle Beach\, SC\, 29582\, United States
CATEGORIES:Live Music
END:VEVENT
BEGIN:VEVENT
DTSTART;TZID=America/New_York:20250111T180000
DTEND;TZID=America/New_York:20250111T210000
DTSTAMP:20260419T142543
CREATED:20241230T133435Z
LAST-MODIFIED:20241230T133435Z
UID:10000606-1736618400-1736629200@boardwalkbillysnmb.com
SUMMARY:Sweet Sweet
DESCRIPTION:
URL:https://boardwalkbillysnmb.com/event/sweet-sweet/
LOCATION:Boardwalk Billy’s\, 1407 13th Ave N\, North Myrtle Beach\, SC\, 29582\, United States
CATEGORIES:Live Music
END:VEVENT
BEGIN:VEVENT
DTSTART;TZID=America/New_York:20250110T180000
DTEND;TZID=America/New_York:20250110T210000
DTSTAMP:20260419T142543
CREATED:20241230T133406Z
LAST-MODIFIED:20241230T133406Z
UID:10000605-1736532000-1736542800@boardwalkbillysnmb.com
SUMMARY:Timmy Pierce
DESCRIPTION:
URL:https://boardwalkbillysnmb.com/event/timmy-pierce/
LOCATION:Boardwalk Billy’s\, 1407 13th Ave N\, North Myrtle Beach\, SC\, 29582\, United States
CATEGORIES:Live Music
END:VEVENT
BEGIN:VEVENT
DTSTART;TZID=America/New_York:20250109T170000
DTEND;TZID=America/New_York:20250109T200000
DTSTAMP:20260419T142543
CREATED:20241230T132957Z
LAST-MODIFIED:20241230T132957Z
UID:10000596-1736442000-1736452800@boardwalkbillysnmb.com
SUMMARY:Stan Gregory
DESCRIPTION:
URL:https://boardwalkbillysnmb.com/event/stan-gregory-3/2025-01-09/
LOCATION:Boardwalk Billy’s\, 1407 13th Ave N\, North Myrtle Beach\, SC\, 29582\, United States
CATEGORIES:Live Music
END:VEVENT
BEGIN:VEVENT
DTSTART;TZID=America/New_York:20250108T170000
DTEND;TZID=America/New_York:20250108T200000
DTSTAMP:20260419T142543
CREATED:20241230T133316Z
LAST-MODIFIED:20241230T133338Z
UID:10000603-1736355600-1736366400@boardwalkbillysnmb.com
SUMMARY:Randy Atwood Duo
DESCRIPTION:
URL:https://boardwalkbillysnmb.com/event/randy-atwood-duo/2025-01-08/
LOCATION:Boardwalk Billy’s\, 1407 13th Ave N\, North Myrtle Beach\, SC\, 29582\, United States
CATEGORIES:Live Music
END:VEVENT
BEGIN:VEVENT
DTSTART;TZID=America/New_York:20250107T170000
DTEND;TZID=America/New_York:20250107T200000
DTSTAMP:20260419T142543
CREATED:20241230T133247Z
LAST-MODIFIED:20241230T133247Z
UID:10000602-1736269200-1736280000@boardwalkbillysnmb.com
SUMMARY:Jimmy Roca
DESCRIPTION:
URL:https://boardwalkbillysnmb.com/event/jimmy-roca/
LOCATION:Boardwalk Billy’s\, 1407 13th Ave N\, North Myrtle Beach\, SC\, 29582\, United States
CATEGORIES:Live Music
END:VEVENT
BEGIN:VEVENT
DTSTART;TZID=America/New_York:20250106T170000
DTEND;TZID=America/New_York:20250106T200000
DTSTAMP:20260419T142543
CREATED:20241230T133215Z
LAST-MODIFIED:20241230T133215Z
UID:10000601-1736182800-1736193600@boardwalkbillysnmb.com
SUMMARY:William King
DESCRIPTION:
URL:https://boardwalkbillysnmb.com/event/william-king/
LOCATION:Boardwalk Billy’s\, 1407 13th Ave N\, North Myrtle Beach\, SC\, 29582\, United States
CATEGORIES:Live Music
END:VEVENT
BEGIN:VEVENT
DTSTART;TZID=America/New_York:20250105T170000
DTEND;TZID=America/New_York:20250105T200000
DTSTAMP:20260419T142543
CREATED:20241230T133136Z
LAST-MODIFIED:20241230T133136Z
UID:10000600-1736096400-1736107200@boardwalkbillysnmb.com
SUMMARY:Mike O'Donnell
DESCRIPTION:
URL:https://boardwalkbillysnmb.com/event/mike-odonnell/
LOCATION:Boardwalk Billy’s\, 1407 13th Ave N\, North Myrtle Beach\, SC\, 29582\, United States
CATEGORIES:Live Music
END:VEVENT
BEGIN:VEVENT
DTSTART;TZID=America/New_York:20250104T180000
DTEND;TZID=America/New_York:20250104T210000
DTSTAMP:20260419T142543
CREATED:20241230T133108Z
LAST-MODIFIED:20241230T133108Z
UID:10000599-1736013600-1736024400@boardwalkbillysnmb.com
SUMMARY:Tidal Wave
DESCRIPTION:
URL:https://boardwalkbillysnmb.com/event/tidal-wave/
LOCATION:Boardwalk Billy’s\, 1407 13th Ave N\, North Myrtle Beach\, SC\, 29582\, United States
CATEGORIES:Live Music
END:VEVENT
BEGIN:VEVENT
DTSTART;TZID=America/New_York:20250103T180000
DTEND;TZID=America/New_York:20250103T210000
DTSTAMP:20260419T142543
CREATED:20241230T133040Z
LAST-MODIFIED:20241230T133040Z
UID:10000598-1735927200-1735938000@boardwalkbillysnmb.com
SUMMARY:The Pharmacy
DESCRIPTION:
URL:https://boardwalkbillysnmb.com/event/the-pharmacy-4/
LOCATION:Boardwalk Billy’s\, 1407 13th Ave N\, North Myrtle Beach\, SC\, 29582\, United States
CATEGORIES:Live Music
END:VEVENT
BEGIN:VEVENT
DTSTART;TZID=America/New_York:20250102T170000
DTEND;TZID=America/New_York:20250102T200000
DTSTAMP:20260419T142543
CREATED:20241230T132957Z
LAST-MODIFIED:20241230T132957Z
UID:10000595-1735837200-1735848000@boardwalkbillysnmb.com
SUMMARY:Stan Gregory
DESCRIPTION:
URL:https://boardwalkbillysnmb.com/event/stan-gregory-3/2025-01-02/
LOCATION:Boardwalk Billy’s\, 1407 13th Ave N\, North Myrtle Beach\, SC\, 29582\, United States
CATEGORIES:Live Music
END:VEVENT
BEGIN:VEVENT
DTSTART;TZID=America/New_York:20250101T170000
DTEND;TZID=America/New_York:20250101T200000
DTSTAMP:20260419T142543
CREATED:20241230T132843Z
LAST-MODIFIED:20241230T132843Z
UID:10000594-1735750800-1735761600@boardwalkbillysnmb.com
SUMMARY:Mike Waters
DESCRIPTION:
URL:https://boardwalkbillysnmb.com/event/mike-waters/
LOCATION:Boardwalk Billy’s\, 1407 13th Ave N\, North Myrtle Beach\, SC\, 29582\, United States
CATEGORIES:Live Music
END:VEVENT
BEGIN:VEVENT
DTSTART;TZID=America/New_York:20241231T200000
DTEND;TZID=America/New_York:20241231T230000
DTSTAMP:20260419T142543
CREATED:20241217T124104Z
LAST-MODIFIED:20241217T124104Z
UID:10000593-1735675200-1735686000@boardwalkbillysnmb.com
SUMMARY:A Hoppy New Year Party
DESCRIPTION:
URL:https://boardwalkbillysnmb.com/event/a-hoppy-new-year-party/
LOCATION:Boardwalk Billy’s\, 1407 13th Ave N\, North Myrtle Beach\, SC\, 29582\, United States
CATEGORIES:Live Music,Party
END:VEVENT
BEGIN:VEVENT
DTSTART;TZID=America/New_York:20241230T170000
DTEND;TZID=America/New_York:20241230T200000
DTSTAMP:20260419T142543
CREATED:20240115T214717Z
LAST-MODIFIED:20240528T124516Z
UID:10000540-1735578000-1735588800@boardwalkbillysnmb.com
SUMMARY:Cam Nesbitt
DESCRIPTION:
URL:https://boardwalkbillysnmb.com/event/cam-nesbitt-4/2024-12-30/
LOCATION:Boardwalk Billy’s\, 1407 13th Ave N\, North Myrtle Beach\, SC\, 29582\, United States
CATEGORIES:Live Music
END:VEVENT
BEGIN:VEVENT
DTSTART;TZID=America/New_York:20241229T170000
DTEND;TZID=America/New_York:20241229T200000
DTSTAMP:20260419T142543
CREATED:20240115T214457Z
LAST-MODIFIED:20240528T124507Z
UID:10000539-1735491600-1735502400@boardwalkbillysnmb.com
SUMMARY:Sweet Sweet
DESCRIPTION:
URL:https://boardwalkbillysnmb.com/event/sweet-sweet-4/2024-12-29/
LOCATION:Boardwalk Billy’s\, 1407 13th Ave N\, North Myrtle Beach\, SC\, 29582\, United States
CATEGORIES:Live Music
END:VEVENT
BEGIN:VEVENT
DTSTART;TZID=America/New_York:20241228T180000
DTEND;TZID=America/New_York:20241228T210000
DTSTAMP:20260419T142543
CREATED:20240115T212518Z
LAST-MODIFIED:20240528T124950Z
UID:10000538-1735408800-1735419600@boardwalkbillysnmb.com
SUMMARY:Austin Floyd
DESCRIPTION:
URL:https://boardwalkbillysnmb.com/event/austin-floyd-3/2024-12-28/
LOCATION:Boardwalk Billy’s\, 1407 13th Ave N\, North Myrtle Beach\, SC\, 29582\, United States
CATEGORIES:Live Music
END:VEVENT
BEGIN:VEVENT
DTSTART;TZID=America/New_York:20241226T170000
DTEND;TZID=America/New_York:20241226T200000
DTSTAMP:20260419T142543
CREATED:20240117T193059Z
LAST-MODIFIED:20240903T115714Z
UID:10000528-1735232400-1735243200@boardwalkbillysnmb.com
SUMMARY:Stan Gregory
DESCRIPTION:
URL:https://boardwalkbillysnmb.com/event/stan-gregory-9/2024-12-26/
LOCATION:SC
CATEGORIES:Live Music
END:VEVENT
BEGIN:VEVENT
DTSTART;TZID=America/New_York:20241221T180000
DTEND;TZID=America/New_York:20241221T210000
DTSTAMP:20260419T142543
CREATED:20240102T182841Z
LAST-MODIFIED:20240528T124631Z
UID:10000537-1734804000-1734814800@boardwalkbillysnmb.com
SUMMARY:Ronnie O'Briant
DESCRIPTION:
URL:https://boardwalkbillysnmb.com/event/ronnie-obriant-2/2024-12-21/
LOCATION:Boardwalk Billy’s\, 1407 13th Ave N\, North Myrtle Beach\, SC\, 29582\, United States
CATEGORIES:Live Music
END:VEVENT
END:VCALENDAR