BEGIN:VCALENDAR
VERSION:2.0
PRODID:-//Boardwalk Billy&#039;s - ECPv6.15.20//NONSGML v1.0//EN
CALSCALE:GREGORIAN
METHOD:PUBLISH
X-WR-CALNAME:Boardwalk Billy&#039;s
X-ORIGINAL-URL:https://boardwalkbillysnmb.com
X-WR-CALDESC:Events for Boardwalk Billy&#039;s
REFRESH-INTERVAL;VALUE=DURATION:PT1H
X-Robots-Tag:noindex
X-PUBLISHED-TTL:PT1H
BEGIN:VTIMEZONE
TZID:America/New_York
BEGIN:DAYLIGHT
TZOFFSETFROM:-0500
TZOFFSETTO:-0400
TZNAME:EDT
DTSTART:20230312T070000
END:DAYLIGHT
BEGIN:STANDARD
TZOFFSETFROM:-0400
TZOFFSETTO:-0500
TZNAME:EST
DTSTART:20231105T060000
END:STANDARD
BEGIN:DAYLIGHT
TZOFFSETFROM:-0500
TZOFFSETTO:-0400
TZNAME:EDT
DTSTART:20240310T070000
END:DAYLIGHT
BEGIN:STANDARD
TZOFFSETFROM:-0400
TZOFFSETTO:-0500
TZNAME:EST
DTSTART:20241103T060000
END:STANDARD
BEGIN:DAYLIGHT
TZOFFSETFROM:-0500
TZOFFSETTO:-0400
TZNAME:EDT
DTSTART:20250309T070000
END:DAYLIGHT
BEGIN:STANDARD
TZOFFSETFROM:-0400
TZOFFSETTO:-0500
TZNAME:EST
DTSTART:20251102T060000
END:STANDARD
END:VTIMEZONE
BEGIN:VEVENT
DTSTART;TZID=America/New_York:20240917T180000
DTEND;TZID=America/New_York:20240917T210000
DTSTAMP:20260419T135402
CREATED:20240115T205428Z
LAST-MODIFIED:20240528T124823Z
UID:10000386-1726596000-1726606800@boardwalkbillysnmb.com
SUMMARY:Holy Spickets
DESCRIPTION:
URL:https://boardwalkbillysnmb.com/event/holy-spickets-2/2024-09-17/
LOCATION:Boardwalk Billy’s\, 1407 13th Ave N\, North Myrtle Beach\, SC\, 29582\, United States
CATEGORIES:Live Music
END:VEVENT
BEGIN:VEVENT
DTSTART;TZID=America/New_York:20240918T180000
DTEND;TZID=America/New_York:20240918T210000
DTSTAMP:20260419T135402
CREATED:20240109T171608Z
LAST-MODIFIED:20240826T163323Z
UID:10000321-1726682400-1726693200@boardwalkbillysnmb.com
SUMMARY:MM & Co
DESCRIPTION:
URL:https://boardwalkbillysnmb.com/event/mm-co/2024-09-18/
LOCATION:Boardwalk Billy’s\, 1407 13th Ave N\, North Myrtle Beach\, SC\, 29582\, United States
CATEGORIES:Live Music
END:VEVENT
BEGIN:VEVENT
DTSTART;TZID=America/New_York:20240919T180000
DTEND;TZID=America/New_York:20240919T210000
DTSTAMP:20260419T135402
CREATED:20240903T115854Z
LAST-MODIFIED:20240903T115854Z
UID:10000577-1726768800-1726779600@boardwalkbillysnmb.com
SUMMARY:Stan Gregory
DESCRIPTION:
URL:https://boardwalkbillysnmb.com/event/stan-gregory/2024-09-19/
LOCATION:Boardwalk Billy’s\, 1407 13th Ave N\, North Myrtle Beach\, SC\, 29582\, United States
CATEGORIES:Live Music
END:VEVENT
BEGIN:VEVENT
DTSTART;TZID=America/New_York:20240920T190000
DTEND;TZID=America/New_York:20240920T220000
DTSTAMP:20260419T135402
CREATED:20240115T211614Z
LAST-MODIFIED:20240528T124858Z
UID:10000419-1726858800-1726869600@boardwalkbillysnmb.com
SUMMARY:Grocery Store Gentlemen
DESCRIPTION:
URL:https://boardwalkbillysnmb.com/event/grocery-store-gentlemen/2024-09-20/
LOCATION:Boardwalk Billy’s\, 1407 13th Ave N\, North Myrtle Beach\, SC\, 29582\, United States
CATEGORIES:Live Music
END:VEVENT
BEGIN:VEVENT
DTSTART;TZID=America/New_York:20240921T190000
DTEND;TZID=America/New_York:20240921T220000
DTSTAMP:20260419T135402
CREATED:20240117T193357Z
LAST-MODIFIED:20240528T124439Z
UID:10000518-1726945200-1726956000@boardwalkbillysnmb.com
SUMMARY:Tastes Like Chicken
DESCRIPTION:
URL:https://boardwalkbillysnmb.com/event/tastes-like-chicken-2/2024-09-21/
LOCATION:Boardwalk Billy’s\, 1407 13th Ave N\, North Myrtle Beach\, SC\, 29582\, United States
CATEGORIES:Live Music
END:VEVENT
BEGIN:VEVENT
DTSTART;TZID=America/New_York:20240922T180000
DTEND;TZID=America/New_York:20240922T210000
DTSTAMP:20260419T135402
CREATED:20240110T203723Z
LAST-MODIFIED:20240528T124837Z
UID:10000353-1727028000-1727038800@boardwalkbillysnmb.com
SUMMARY:Southside Saints
DESCRIPTION:
URL:https://boardwalkbillysnmb.com/event/southside-saints-5/2024-09-22/
LOCATION:Boardwalk Billy’s\, 1407 13th Ave N\, North Myrtle Beach\, SC\, 29582\, United States
CATEGORIES:Live Music
END:VEVENT
BEGIN:VEVENT
DTSTART;TZID=America/New_York:20240923T180000
DTEND;TZID=America/New_York:20240923T210000
DTSTAMP:20260419T135402
CREATED:20240115T205748Z
LAST-MODIFIED:20240528T124828Z
UID:10000396-1727114400-1727125200@boardwalkbillysnmb.com
SUMMARY:The Formers
DESCRIPTION:
URL:https://boardwalkbillysnmb.com/event/the-formers-4/2024-09-23/
LOCATION:Boardwalk Billy’s\, 1407 13th Ave N\, North Myrtle Beach\, SC\, 29582\, United States
CATEGORIES:Live Music
END:VEVENT
BEGIN:VEVENT
DTSTART;TZID=America/New_York:20240924T180000
DTEND;TZID=America/New_York:20240924T210000
DTSTAMP:20260419T135402
CREATED:20240117T193504Z
LAST-MODIFIED:20240528T124432Z
UID:10000520-1727200800-1727211600@boardwalkbillysnmb.com
SUMMARY:Joey Howard
DESCRIPTION:
URL:https://boardwalkbillysnmb.com/event/joey-howard-2/
LOCATION:Boardwalk Billy’s\, 1407 13th Ave N\, North Myrtle Beach\, SC\, 29582\, United States
CATEGORIES:Live Music
END:VEVENT
BEGIN:VEVENT
DTSTART;TZID=America/New_York:20240925T180000
DTEND;TZID=America/New_York:20240925T210000
DTSTAMP:20260419T135402
CREATED:20240109T171338Z
LAST-MODIFIED:20241001T165852Z
UID:10000294-1727287200-1727298000@boardwalkbillysnmb.com
SUMMARY:Rob Cole
DESCRIPTION:
URL:https://boardwalkbillysnmb.com/event/rob-cole-2/2024-09-25/
LOCATION:Boardwalk Billy’s\, 1407 13th Ave N\, North Myrtle Beach\, SC\, 29582\, United States
CATEGORIES:Live Music
END:VEVENT
BEGIN:VEVENT
DTSTART;TZID=America/New_York:20240926T180000
DTEND;TZID=America/New_York:20240926T210000
DTSTAMP:20260419T135402
CREATED:20240109T171338Z
LAST-MODIFIED:20241001T165852Z
UID:10000295-1727373600-1727384400@boardwalkbillysnmb.com
SUMMARY:Rob Cole
DESCRIPTION:
URL:https://boardwalkbillysnmb.com/event/rob-cole-2/2024-09-26/
LOCATION:Boardwalk Billy’s\, 1407 13th Ave N\, North Myrtle Beach\, SC\, 29582\, United States
CATEGORIES:Live Music
END:VEVENT
BEGIN:VEVENT
DTSTART;TZID=America/New_York:20240927T190000
DTEND;TZID=America/New_York:20240927T220000
DTSTAMP:20260419T135402
CREATED:20240110T202923Z
LAST-MODIFIED:20240528T124639Z
UID:10000345-1727463600-1727474400@boardwalkbillysnmb.com
SUMMARY:Potatoheads
DESCRIPTION:
URL:https://boardwalkbillysnmb.com/event/potatoheads-3/2024-09-27/
LOCATION:Boardwalk Billy’s\, 1407 13th Ave N\, North Myrtle Beach\, SC\, 29582\, United States
CATEGORIES:Live Music
END:VEVENT
BEGIN:VEVENT
DTSTART;TZID=America/New_York:20240928T190000
DTEND;TZID=America/New_York:20240928T220000
DTSTAMP:20260419T135402
CREATED:20240110T212306Z
LAST-MODIFIED:20240528T124814Z
UID:10000374-1727550000-1727560800@boardwalkbillysnmb.com
SUMMARY:Thomas Road
DESCRIPTION:
URL:https://boardwalkbillysnmb.com/event/thomas-road-3/2024-09-28/
LOCATION:SC
CATEGORIES:Live Music
END:VEVENT
BEGIN:VEVENT
DTSTART;TZID=America/New_York:20240929T180000
DTEND;TZID=America/New_York:20240929T210000
DTSTAMP:20260419T135402
CREATED:20240110T204041Z
LAST-MODIFIED:20240528T124758Z
UID:10000361-1727632800-1727643600@boardwalkbillysnmb.com
SUMMARY:Taylor Richardson Band
DESCRIPTION:
URL:https://boardwalkbillysnmb.com/event/taylor-richardson-band-2/2024-09-29/
LOCATION:SC
CATEGORIES:Live Music
END:VEVENT
BEGIN:VEVENT
DTSTART;TZID=America/New_York:20240930T180000
DTEND;TZID=America/New_York:20240930T210000
DTSTAMP:20260419T135402
CREATED:20240115T213913Z
LAST-MODIFIED:20240528T124936Z
UID:10000457-1727719200-1727730000@boardwalkbillysnmb.com
SUMMARY:Alex Austin
DESCRIPTION:
URL:https://boardwalkbillysnmb.com/event/alex-austin-4/2024-09-30/
LOCATION:Boardwalk Billy’s\, 1407 13th Ave N\, North Myrtle Beach\, SC\, 29582\, United States
CATEGORIES:Live Music
END:VEVENT
BEGIN:VEVENT
DTSTART;TZID=America/New_York:20241001T180000
DTEND;TZID=America/New_York:20241001T210000
DTSTAMP:20260419T135402
CREATED:20240109T171416Z
LAST-MODIFIED:20240528T124657Z
UID:10000302-1727805600-1727816400@boardwalkbillysnmb.com
SUMMARY:William King
DESCRIPTION:
URL:https://boardwalkbillysnmb.com/event/william-king-4/2024-10-01/
LOCATION:Boardwalk Billy’s\, 1407 13th Ave N\, North Myrtle Beach\, SC\, 29582\, United States
CATEGORIES:Live Music
END:VEVENT
BEGIN:VEVENT
DTSTART;TZID=America/New_York:20241002T180000
DTEND;TZID=America/New_York:20241002T210000
DTSTAMP:20260419T135402
CREATED:20240115T205748Z
LAST-MODIFIED:20240528T124828Z
UID:10000397-1727892000-1727902800@boardwalkbillysnmb.com
SUMMARY:The Formers
DESCRIPTION:
URL:https://boardwalkbillysnmb.com/event/the-formers-4/2024-10-02/
LOCATION:Boardwalk Billy’s\, 1407 13th Ave N\, North Myrtle Beach\, SC\, 29582\, United States
CATEGORIES:Live Music
END:VEVENT
BEGIN:VEVENT
DTSTART;TZID=America/New_York:20241003T180000
DTEND;TZID=America/New_York:20241003T210000
DTSTAMP:20260419T135402
CREATED:20241001T165940Z
LAST-MODIFIED:20241001T165940Z
UID:10000578-1727978400-1727989200@boardwalkbillysnmb.com
SUMMARY:Stan Gregory
DESCRIPTION:
URL:https://boardwalkbillysnmb.com/event/stan-gregory-2/
LOCATION:Boardwalk Billy’s\, 1407 13th Ave N\, North Myrtle Beach\, SC\, 29582\, United States
CATEGORIES:Live Music
END:VEVENT
BEGIN:VEVENT
DTSTART;TZID=America/New_York:20241004T190000
DTEND;TZID=America/New_York:20241004T220000
DTSTAMP:20260419T135402
CREATED:20240109T171608Z
LAST-MODIFIED:20240826T163323Z
UID:10000322-1728068400-1728079200@boardwalkbillysnmb.com
SUMMARY:MM & Co
DESCRIPTION:
URL:https://boardwalkbillysnmb.com/event/mm-co/2024-10-04/
LOCATION:Boardwalk Billy’s\, 1407 13th Ave N\, North Myrtle Beach\, SC\, 29582\, United States
CATEGORIES:Live Music
END:VEVENT
BEGIN:VEVENT
DTSTART;TZID=America/New_York:20241005T190000
DTEND;TZID=America/New_York:20241005T220000
DTSTAMP:20260419T135402
CREATED:20240109T171635Z
LAST-MODIFIED:20240528T124711Z
UID:10000335-1728154800-1728165600@boardwalkbillysnmb.com
SUMMARY:Tidal Wave
DESCRIPTION:
URL:https://boardwalkbillysnmb.com/event/tidal-wave-4/2024-10-05/
LOCATION:Boardwalk Billy’s\, 1407 13th Ave N\, North Myrtle Beach\, SC\, 29582\, United States
CATEGORIES:Live Music
END:VEVENT
BEGIN:VEVENT
DTSTART;TZID=America/New_York:20241006T170000
DTEND;TZID=America/New_York:20241006T200000
DTSTAMP:20260419T135402
CREATED:20240109T171712Z
LAST-MODIFIED:20240528T124716Z
UID:10000341-1728234000-1728244800@boardwalkbillysnmb.com
SUMMARY:Randy Atwood & The Renegades
DESCRIPTION:
URL:https://boardwalkbillysnmb.com/event/randy-atwood/2024-10-06/
LOCATION:Boardwalk Billy’s\, 1407 13th Ave N\, North Myrtle Beach\, SC\, 29582\, United States
CATEGORIES:Live Music
END:VEVENT
BEGIN:VEVENT
DTSTART;TZID=America/New_York:20241007T180000
DTEND;TZID=America/New_York:20241007T210000
DTSTAMP:20260419T135402
CREATED:20240109T171238Z
LAST-MODIFIED:20240528T124729Z
UID:10000284-1728324000-1728334800@boardwalkbillysnmb.com
SUMMARY:Randy McQuay
DESCRIPTION:
URL:https://boardwalkbillysnmb.com/event/randy-mcquay-5/2024-10-07/
LOCATION:Boardwalk Billy’s\, 1407 13th Ave N\, North Myrtle Beach\, SC\, 29582\, United States
CATEGORIES:Live Music
END:VEVENT
BEGIN:VEVENT
DTSTART;TZID=America/New_York:20241008T180000
DTEND;TZID=America/New_York:20241008T210000
DTSTAMP:20260419T135402
CREATED:20241007T122823Z
LAST-MODIFIED:20241007T122823Z
UID:10000580-1728410400-1728421200@boardwalkbillysnmb.com
SUMMARY:Austin Floyd
DESCRIPTION:
URL:https://boardwalkbillysnmb.com/event/austin-floyd/
LOCATION:Boardwalk Billy’s\, 1407 13th Ave N\, North Myrtle Beach\, SC\, 29582\, United States
CATEGORIES:Live Music
END:VEVENT
BEGIN:VEVENT
DTSTART;TZID=America/New_York:20241009T180000
DTEND;TZID=America/New_York:20241009T210000
DTSTAMP:20260419T135402
CREATED:20241007T122854Z
LAST-MODIFIED:20241007T122854Z
UID:10000581-1728496800-1728507600@boardwalkbillysnmb.com
SUMMARY:The Pharmacy
DESCRIPTION:
URL:https://boardwalkbillysnmb.com/event/the-pharmacy/
LOCATION:Boardwalk Billy’s\, 1407 13th Ave N\, North Myrtle Beach\, SC\, 29582\, United States
CATEGORIES:Live Music
END:VEVENT
BEGIN:VEVENT
DTSTART;TZID=America/New_York:20241010T180000
DTEND;TZID=America/New_York:20241010T210000
DTSTAMP:20260419T135402
CREATED:20240117T193059Z
LAST-MODIFIED:20240903T115714Z
UID:10000521-1728583200-1728594000@boardwalkbillysnmb.com
SUMMARY:Stan Gregory
DESCRIPTION:
URL:https://boardwalkbillysnmb.com/event/stan-gregory-9/2024-10-10/
LOCATION:SC
CATEGORIES:Live Music
END:VEVENT
BEGIN:VEVENT
DTSTART;TZID=America/New_York:20241011T190000
DTEND;TZID=America/New_York:20241011T220000
DTSTAMP:20260419T135402
CREATED:20240115T215129Z
LAST-MODIFIED:20240528T124537Z
UID:10000474-1728673200-1728684000@boardwalkbillysnmb.com
SUMMARY:FGH
DESCRIPTION:
URL:https://boardwalkbillysnmb.com/event/fgh-2/2024-10-11/
LOCATION:Boardwalk Billy’s\, 1407 13th Ave N\, North Myrtle Beach\, SC\, 29582\, United States
CATEGORIES:Live Music
END:VEVENT
BEGIN:VEVENT
DTSTART;TZID=America/New_York:20241012T190000
DTEND;TZID=America/New_York:20241012T220000
DTSTAMP:20260419T135402
CREATED:20240115T205205Z
LAST-MODIFIED:20240528T124819Z
UID:10000381-1728759600-1728770400@boardwalkbillysnmb.com
SUMMARY:Paul Grimshaw
DESCRIPTION:
URL:https://boardwalkbillysnmb.com/event/paul-grimshaw-4/2024-10-12/
LOCATION:Boardwalk Billy’s\, 1407 13th Ave N\, North Myrtle Beach\, SC\, 29582\, United States
CATEGORIES:Live Music
END:VEVENT
BEGIN:VEVENT
DTSTART;TZID=America/New_York:20241013T170000
DTEND;TZID=America/New_York:20241013T200000
DTSTAMP:20260419T135402
CREATED:20240110T212306Z
LAST-MODIFIED:20240528T124814Z
UID:10000529-1728838800-1728849600@boardwalkbillysnmb.com
SUMMARY:Thomas Road
DESCRIPTION:
URL:https://boardwalkbillysnmb.com/event/thomas-road-3/2024-10-13/
LOCATION:SC
CATEGORIES:Live Music
END:VEVENT
BEGIN:VEVENT
DTSTART;TZID=America/New_York:20241014T180000
DTEND;TZID=America/New_York:20241014T210000
DTSTAMP:20260419T135402
CREATED:20240115T212518Z
LAST-MODIFIED:20240528T124950Z
UID:10000434-1728928800-1728939600@boardwalkbillysnmb.com
SUMMARY:Austin Floyd
DESCRIPTION:
URL:https://boardwalkbillysnmb.com/event/austin-floyd-3/2024-10-14/
LOCATION:Boardwalk Billy’s\, 1407 13th Ave N\, North Myrtle Beach\, SC\, 29582\, United States
CATEGORIES:Live Music
END:VEVENT
BEGIN:VEVENT
DTSTART;TZID=America/New_York:20241015T180000
DTEND;TZID=America/New_York:20241015T210000
DTSTAMP:20260419T135402
CREATED:20240115T205428Z
LAST-MODIFIED:20240528T124823Z
UID:10000387-1729015200-1729026000@boardwalkbillysnmb.com
SUMMARY:Holy Spickets
DESCRIPTION:
URL:https://boardwalkbillysnmb.com/event/holy-spickets-2/2024-10-15/
LOCATION:Boardwalk Billy’s\, 1407 13th Ave N\, North Myrtle Beach\, SC\, 29582\, United States
CATEGORIES:Live Music
END:VEVENT
BEGIN:VEVENT
DTSTART;TZID=America/New_York:20241017T180000
DTEND;TZID=America/New_York:20241017T210000
DTSTAMP:20260419T135402
CREATED:20240109T171608Z
LAST-MODIFIED:20240826T163323Z
UID:10000323-1729188000-1729198800@boardwalkbillysnmb.com
SUMMARY:MM & Co
DESCRIPTION:
URL:https://boardwalkbillysnmb.com/event/mm-co/2024-10-17/
LOCATION:Boardwalk Billy’s\, 1407 13th Ave N\, North Myrtle Beach\, SC\, 29582\, United States
CATEGORIES:Live Music
END:VEVENT
END:VCALENDAR