BEGIN:VCALENDAR
VERSION:2.0
PRODID:-//Boardwalk Billy&#039;s - ECPv6.15.20//NONSGML v1.0//EN
CALSCALE:GREGORIAN
METHOD:PUBLISH
X-WR-CALNAME:Boardwalk Billy&#039;s
X-ORIGINAL-URL:https://boardwalkbillysnmb.com
X-WR-CALDESC:Events for Boardwalk Billy&#039;s
REFRESH-INTERVAL;VALUE=DURATION:PT1H
X-Robots-Tag:noindex
X-PUBLISHED-TTL:PT1H
BEGIN:VTIMEZONE
TZID:America/New_York
BEGIN:DAYLIGHT
TZOFFSETFROM:-0500
TZOFFSETTO:-0400
TZNAME:EDT
DTSTART:20240310T070000
END:DAYLIGHT
BEGIN:STANDARD
TZOFFSETFROM:-0400
TZOFFSETTO:-0500
TZNAME:EST
DTSTART:20241103T060000
END:STANDARD
BEGIN:DAYLIGHT
TZOFFSETFROM:-0500
TZOFFSETTO:-0400
TZNAME:EDT
DTSTART:20250309T070000
END:DAYLIGHT
BEGIN:STANDARD
TZOFFSETFROM:-0400
TZOFFSETTO:-0500
TZNAME:EST
DTSTART:20251102T060000
END:STANDARD
BEGIN:DAYLIGHT
TZOFFSETFROM:-0500
TZOFFSETTO:-0400
TZNAME:EDT
DTSTART:20260308T070000
END:DAYLIGHT
BEGIN:STANDARD
TZOFFSETFROM:-0400
TZOFFSETTO:-0500
TZNAME:EST
DTSTART:20261101T060000
END:STANDARD
END:VTIMEZONE
BEGIN:VEVENT
DTSTART;TZID=America/New_York:20250407T160000
DTEND;TZID=America/New_York:20250407T190000
DTSTAMP:20260421T215538
CREATED:20250107T211448Z
LAST-MODIFIED:20250407T130240Z
UID:10000971-1744041600-1744052400@boardwalkbillysnmb.com
SUMMARY:Holy Spickets
DESCRIPTION:
URL:https://boardwalkbillysnmb.com/event/holy-spickets/2025-04-07/
LOCATION:Boardwalk Billy’s\, 1407 13th Ave N\, North Myrtle Beach\, SC\, 29582\, United States
CATEGORIES:Live Music
END:VEVENT
BEGIN:VEVENT
DTSTART;TZID=America/New_York:20250408T180000
DTEND;TZID=America/New_York:20250408T210000
DTSTAMP:20260421T215538
CREATED:20250107T200257Z
LAST-MODIFIED:20250811T133326Z
UID:10000748-1744135200-1744146000@boardwalkbillysnmb.com
SUMMARY:Seth Thomas & Jonathan Locklear
DESCRIPTION:
URL:https://boardwalkbillysnmb.com/event/seth-thomas-jonathan-locklear-2/2025-04-08/
LOCATION:Boardwalk Billy’s\, 1407 13th Ave N\, North Myrtle Beach\, SC\, 29582\, United States
CATEGORIES:Live Music
END:VEVENT
BEGIN:VEVENT
DTSTART;TZID=America/New_York:20250409T180000
DTEND;TZID=America/New_York:20250409T210000
DTSTAMP:20260421T215538
CREATED:20250107T192313Z
LAST-MODIFIED:20250107T192313Z
UID:10000656-1744221600-1744232400@boardwalkbillysnmb.com
SUMMARY:Randy Atwood Duo
DESCRIPTION:
URL:https://boardwalkbillysnmb.com/event/randy-atwood-duo-2/2025-04-09/
LOCATION:Boardwalk Billy’s\, 1407 13th Ave N\, North Myrtle Beach\, SC\, 29582\, United States
CATEGORIES:Live Music
END:VEVENT
BEGIN:VEVENT
DTSTART;TZID=America/New_York:20250410T180000
DTEND;TZID=America/New_York:20250410T210000
DTSTAMP:20260421T215538
CREATED:20250107T194052Z
LAST-MODIFIED:20251222T152026Z
UID:10000699-1744308000-1744318800@boardwalkbillysnmb.com
SUMMARY:Rob Cole
DESCRIPTION:
URL:https://boardwalkbillysnmb.com/event/rob-cole-3/2025-04-10/
LOCATION:Boardwalk Billy’s\, 1407 13th Ave N\, North Myrtle Beach\, SC\, 29582\, United States
CATEGORIES:Live Music
END:VEVENT
BEGIN:VEVENT
DTSTART;TZID=America/New_York:20250411T190000
DTEND;TZID=America/New_York:20250411T220000
DTSTAMP:20260421T215538
CREATED:20250407T182744Z
LAST-MODIFIED:20250407T183059Z
UID:10000972-1744398000-1744408800@boardwalkbillysnmb.com
SUMMARY:Tastes Like Chicken Full Band
DESCRIPTION:
URL:https://boardwalkbillysnmb.com/event/tastes-like-chicken/
LOCATION:Boardwalk Billy’s\, 1407 13th Ave N\, North Myrtle Beach\, SC\, 29582\, United States
CATEGORIES:Live Music
END:VEVENT
BEGIN:VEVENT
DTSTART;TZID=America/New_York:20250412T190000
DTEND;TZID=America/New_York:20250412T220000
DTSTAMP:20260421T215538
CREATED:20250107T195126Z
LAST-MODIFIED:20251215T134402Z
UID:10000726-1744484400-1744495200@boardwalkbillysnmb.com
SUMMARY:If Birds Could Fly
DESCRIPTION:
URL:https://boardwalkbillysnmb.com/event/if-birds-could-fly-2/2025-04-12/
LOCATION:Boardwalk Billy’s\, 1407 13th Ave N\, North Myrtle Beach\, SC\, 29582\, United States
CATEGORIES:Live Music
END:VEVENT
BEGIN:VEVENT
DTSTART;TZID=America/New_York:20250413T180000
DTEND;TZID=America/New_York:20250413T210000
DTSTAMP:20260421T215538
CREATED:20250107T205644Z
LAST-MODIFIED:20250204T160320Z
UID:10000860-1744567200-1744578000@boardwalkbillysnmb.com
SUMMARY:Thomas Road
DESCRIPTION:
URL:https://boardwalkbillysnmb.com/event/thomas-road/2025-04-13/
LOCATION:Boardwalk Billy’s\, 1407 13th Ave N\, North Myrtle Beach\, SC\, 29582\, United States
CATEGORIES:Live Music
END:VEVENT
BEGIN:VEVENT
DTSTART;TZID=America/New_York:20250414T180000
DTEND;TZID=America/New_York:20250414T210000
DTSTAMP:20260421T215538
CREATED:20250107T211632Z
LAST-MODIFIED:20250107T211632Z
UID:10000897-1744653600-1744664400@boardwalkbillysnmb.com
SUMMARY:WL2F
DESCRIPTION:
URL:https://boardwalkbillysnmb.com/event/wl2f/2025-04-14/
LOCATION:Boardwalk Billy’s\, 1407 13th Ave N\, North Myrtle Beach\, SC\, 29582\, United States
CATEGORIES:Live Music
END:VEVENT
BEGIN:VEVENT
DTSTART;TZID=America/New_York:20250415T180000
DTEND;TZID=America/New_York:20250415T210000
DTSTAMP:20260421T215538
CREATED:20250107T202907Z
LAST-MODIFIED:20250107T202907Z
UID:10000811-1744740000-1744750800@boardwalkbillysnmb.com
SUMMARY:Devin and Robbie
DESCRIPTION:
URL:https://boardwalkbillysnmb.com/event/devin-and-robbie/2025-04-15/
LOCATION:Boardwalk Billy’s\, 1407 13th Ave N\, North Myrtle Beach\, SC\, 29582\, United States
CATEGORIES:Live Music
END:VEVENT
BEGIN:VEVENT
DTSTART;TZID=America/New_York:20250416T180000
DTEND;TZID=America/New_York:20250416T210000
DTSTAMP:20260421T215538
CREATED:20250107T192940Z
LAST-MODIFIED:20251215T134310Z
UID:10000676-1744826400-1744837200@boardwalkbillysnmb.com
SUMMARY:MMC
DESCRIPTION:
URL:https://boardwalkbillysnmb.com/event/mmc/2025-04-16/
LOCATION:Boardwalk Billy’s\, 1407 13th Ave N\, North Myrtle Beach\, SC\, 29582\, United States
CATEGORIES:Live Music
END:VEVENT
BEGIN:VEVENT
DTSTART;TZID=America/New_York:20250417T180000
DTEND;TZID=America/New_York:20250417T210000
DTSTAMP:20260421T215538
CREATED:20250107T200956Z
LAST-MODIFIED:20250107T200956Z
UID:10000771-1744912800-1744923600@boardwalkbillysnmb.com
SUMMARY:Stan Gregory
DESCRIPTION:
URL:https://boardwalkbillysnmb.com/event/stan-gregory-4/2025-04-17/
LOCATION:Boardwalk Billy’s\, 1407 13th Ave N\, North Myrtle Beach\, SC\, 29582\, United States
CATEGORIES:Live Music
END:VEVENT
BEGIN:VEVENT
DTSTART;TZID=America/New_York:20250418T190000
DTEND;TZID=America/New_York:20250418T220000
DTSTAMP:20260421T215538
CREATED:20250107T211743Z
LAST-MODIFIED:20251215T134602Z
UID:10000901-1745002800-1745013600@boardwalkbillysnmb.com
SUMMARY:Timmy Pierce
DESCRIPTION:
URL:https://boardwalkbillysnmb.com/event/timmy-pierce-5/2025-04-18/
LOCATION:Boardwalk Billy’s\, 1407 13th Ave N\, North Myrtle Beach\, SC\, 29582\, United States
CATEGORIES:Live Music
END:VEVENT
BEGIN:VEVENT
DTSTART;TZID=America/New_York:20250419T190000
DTEND;TZID=America/New_York:20250419T220000
DTSTAMP:20260421T215538
CREATED:20250107T211815Z
LAST-MODIFIED:20250107T211815Z
UID:10000903-1745089200-1745100000@boardwalkbillysnmb.com
SUMMARY:Miracle Max and the Pet Monsters
DESCRIPTION:
URL:https://boardwalkbillysnmb.com/event/miracle-max-and-the-pet-monsters-2/
LOCATION:Boardwalk Billy’s\, 1407 13th Ave N\, North Myrtle Beach\, SC\, 29582\, United States
CATEGORIES:Live Music
END:VEVENT
BEGIN:VEVENT
DTSTART;TZID=America/New_York:20250420T130000
DTEND;TZID=America/New_York:20250420T160000
DTSTAMP:20260421T215538
CREATED:20250107T211917Z
LAST-MODIFIED:20250107T211917Z
UID:10000904-1745154000-1745164800@boardwalkbillysnmb.com
SUMMARY:Mike Waters
DESCRIPTION:
URL:https://boardwalkbillysnmb.com/event/mike-waters-2/
LOCATION:Boardwalk Billy’s\, 1407 13th Ave N\, North Myrtle Beach\, SC\, 29582\, United States
CATEGORIES:Live Music
END:VEVENT
BEGIN:VEVENT
DTSTART;TZID=America/New_York:20250421T180000
DTEND;TZID=America/New_York:20250421T210000
DTSTAMP:20260421T215538
CREATED:20250107T202410Z
LAST-MODIFIED:20250107T202410Z
UID:10000801-1745258400-1745269200@boardwalkbillysnmb.com
SUMMARY:Randy McQuay
DESCRIPTION:
URL:https://boardwalkbillysnmb.com/event/randy-mcquay-2/2025-04-21/
LOCATION:Boardwalk Billy’s\, 1407 13th Ave N\, North Myrtle Beach\, SC\, 29582\, United States
CATEGORIES:Live Music
END:VEVENT
BEGIN:VEVENT
DTSTART;TZID=America/New_York:20250422T180000
DTEND;TZID=America/New_York:20250422T210000
DTSTAMP:20260421T215538
CREATED:20250107T200257Z
LAST-MODIFIED:20250811T133326Z
UID:10000749-1745344800-1745355600@boardwalkbillysnmb.com
SUMMARY:Seth Thomas & Jonathan Locklear
DESCRIPTION:
URL:https://boardwalkbillysnmb.com/event/seth-thomas-jonathan-locklear-2/2025-04-22/
LOCATION:Boardwalk Billy’s\, 1407 13th Ave N\, North Myrtle Beach\, SC\, 29582\, United States
CATEGORIES:Live Music
END:VEVENT
BEGIN:VEVENT
DTSTART;TZID=America/New_York:20250423T180000
DTEND;TZID=America/New_York:20250423T210000
DTSTAMP:20260421T215538
CREATED:20250107T192313Z
LAST-MODIFIED:20250107T192313Z
UID:10000657-1745431200-1745442000@boardwalkbillysnmb.com
SUMMARY:Randy Atwood Duo
DESCRIPTION:
URL:https://boardwalkbillysnmb.com/event/randy-atwood-duo-2/2025-04-23/
LOCATION:Boardwalk Billy’s\, 1407 13th Ave N\, North Myrtle Beach\, SC\, 29582\, United States
CATEGORIES:Live Music
END:VEVENT
BEGIN:VEVENT
DTSTART;TZID=America/New_York:20250424T180000
DTEND;TZID=America/New_York:20250424T210000
DTSTAMP:20260421T215538
CREATED:20250107T200956Z
LAST-MODIFIED:20250107T200956Z
UID:10000772-1745517600-1745528400@boardwalkbillysnmb.com
SUMMARY:Stan Gregory
DESCRIPTION:
URL:https://boardwalkbillysnmb.com/event/stan-gregory-4/2025-04-24/
LOCATION:Boardwalk Billy’s\, 1407 13th Ave N\, North Myrtle Beach\, SC\, 29582\, United States
CATEGORIES:Live Music
END:VEVENT
BEGIN:VEVENT
DTSTART;TZID=America/New_York:20250425T190000
DTEND;TZID=America/New_York:20250425T220000
DTSTAMP:20260421T215538
CREATED:20250107T194052Z
LAST-MODIFIED:20251222T152026Z
UID:10000700-1745607600-1745618400@boardwalkbillysnmb.com
SUMMARY:Rob Cole
DESCRIPTION:
URL:https://boardwalkbillysnmb.com/event/rob-cole-3/2025-04-25/
LOCATION:Boardwalk Billy’s\, 1407 13th Ave N\, North Myrtle Beach\, SC\, 29582\, United States
CATEGORIES:Live Music
END:VEVENT
BEGIN:VEVENT
DTSTART;TZID=America/New_York:20250426T190000
DTEND;TZID=America/New_York:20250426T220000
DTSTAMP:20260421T215538
CREATED:20250107T212324Z
LAST-MODIFIED:20250107T212324Z
UID:10000905-1745694000-1745704800@boardwalkbillysnmb.com
SUMMARY:Mystic Vibrations
DESCRIPTION:
URL:https://boardwalkbillysnmb.com/event/mystic-vibrations-4/2025-04-26/
LOCATION:Boardwalk Billy’s\, 1407 13th Ave N\, North Myrtle Beach\, SC\, 29582\, United States
CATEGORIES:Live Music
END:VEVENT
BEGIN:VEVENT
DTSTART;TZID=America/New_York:20250427T130000
DTEND;TZID=America/New_York:20250427T160000
DTSTAMP:20260421T215538
CREATED:20250421T154655Z
LAST-MODIFIED:20250421T154655Z
UID:10000973-1745758800-1745769600@boardwalkbillysnmb.com
SUMMARY:Johnny White Band
DESCRIPTION:
URL:https://boardwalkbillysnmb.com/event/johnny-white-band/
LOCATION:Boardwalk Billy’s\, 1407 13th Ave N\, North Myrtle Beach\, SC\, 29582\, United States
CATEGORIES:Live Music
END:VEVENT
BEGIN:VEVENT
DTSTART;TZID=America/New_York:20250427T180000
DTEND;TZID=America/New_York:20250427T210000
DTSTAMP:20260421T215538
CREATED:20250107T205032Z
LAST-MODIFIED:20250204T160240Z
UID:10000849-1745776800-1745787600@boardwalkbillysnmb.com
SUMMARY:Devin Dove Co
DESCRIPTION:
URL:https://boardwalkbillysnmb.com/event/devin-dove-co/2025-04-27/
LOCATION:Boardwalk Billy’s\, 1407 13th Ave N\, North Myrtle Beach\, SC\, 29582\, United States
CATEGORIES:Live Music
END:VEVENT
BEGIN:VEVENT
DTSTART;TZID=America/New_York:20250428T180000
DTEND;TZID=America/New_York:20250428T210000
DTSTAMP:20260421T215538
CREATED:20250107T212415Z
LAST-MODIFIED:20250107T212415Z
UID:10000907-1745863200-1745874000@boardwalkbillysnmb.com
SUMMARY:Tripwire Trio
DESCRIPTION:
URL:https://boardwalkbillysnmb.com/event/tripwire-trio/
LOCATION:Boardwalk Billy’s\, 1407 13th Ave N\, North Myrtle Beach\, SC\, 29582\, United States
CATEGORIES:Live Music
END:VEVENT
BEGIN:VEVENT
DTSTART;TZID=America/New_York:20250429T180000
DTEND;TZID=America/New_York:20250429T210000
DTSTAMP:20260421T215538
CREATED:20250107T211448Z
LAST-MODIFIED:20250407T130240Z
UID:10000892-1745949600-1745960400@boardwalkbillysnmb.com
SUMMARY:Holy Spickets
DESCRIPTION:
URL:https://boardwalkbillysnmb.com/event/holy-spickets/2025-04-29/
LOCATION:Boardwalk Billy’s\, 1407 13th Ave N\, North Myrtle Beach\, SC\, 29582\, United States
CATEGORIES:Live Music
END:VEVENT
BEGIN:VEVENT
DTSTART;TZID=America/New_York:20250430T180000
DTEND;TZID=America/New_York:20250430T210000
DTSTAMP:20260421T215538
CREATED:20250107T212436Z
LAST-MODIFIED:20250107T212436Z
UID:10000908-1746036000-1746046800@boardwalkbillysnmb.com
SUMMARY:Saluda Shoals
DESCRIPTION:
URL:https://boardwalkbillysnmb.com/event/saluda-shoals/
LOCATION:Boardwalk Billy’s\, 1407 13th Ave N\, North Myrtle Beach\, SC\, 29582\, United States
CATEGORIES:Live Music
END:VEVENT
BEGIN:VEVENT
DTSTART;TZID=America/New_York:20250501T180000
DTEND;TZID=America/New_York:20250501T210000
DTSTAMP:20260421T215538
CREATED:20250107T200956Z
LAST-MODIFIED:20250107T200956Z
UID:10000773-1746122400-1746133200@boardwalkbillysnmb.com
SUMMARY:Stan Gregory
DESCRIPTION:
URL:https://boardwalkbillysnmb.com/event/stan-gregory-4/2025-05-01/
LOCATION:Boardwalk Billy’s\, 1407 13th Ave N\, North Myrtle Beach\, SC\, 29582\, United States
CATEGORIES:Live Music
END:VEVENT
BEGIN:VEVENT
DTSTART;TZID=America/New_York:20250502T190000
DTEND;TZID=America/New_York:20250502T220000
DTSTAMP:20260421T215538
CREATED:20250107T192940Z
LAST-MODIFIED:20251215T134310Z
UID:10000677-1746212400-1746223200@boardwalkbillysnmb.com
SUMMARY:MMC
DESCRIPTION:
URL:https://boardwalkbillysnmb.com/event/mmc/2025-05-02/
LOCATION:Boardwalk Billy’s\, 1407 13th Ave N\, North Myrtle Beach\, SC\, 29582\, United States
CATEGORIES:Live Music
END:VEVENT
BEGIN:VEVENT
DTSTART;TZID=America/New_York:20250504T180000
DTEND;TZID=America/New_York:20250504T210000
DTSTAMP:20260421T215538
CREATED:20250107T210519Z
LAST-MODIFIED:20250107T210519Z
UID:10000874-1746381600-1746392400@boardwalkbillysnmb.com
SUMMARY:City Lights
DESCRIPTION:
URL:https://boardwalkbillysnmb.com/event/city-lights/2025-05-04/
LOCATION:Boardwalk Billy’s\, 1407 13th Ave N\, North Myrtle Beach\, SC\, 29582\, United States
CATEGORIES:Live Music
END:VEVENT
BEGIN:VEVENT
DTSTART;TZID=America/New_York:20250505T130000
DTEND;TZID=America/New_York:20250505T160000
DTSTAMP:20260421T215538
CREATED:20250107T201359Z
LAST-MODIFIED:20250107T201359Z
UID:10000789-1746450000-1746460800@boardwalkbillysnmb.com
SUMMARY:Salty Dog
DESCRIPTION:
URL:https://boardwalkbillysnmb.com/event/salty-dog-5/2025-05-05/
LOCATION:Boardwalk Billy’s\, 1407 13th Ave N\, North Myrtle Beach\, SC\, 29582\, United States
CATEGORIES:Live Music
END:VEVENT
BEGIN:VEVENT
DTSTART;TZID=America/New_York:20250505T180000
DTEND;TZID=America/New_York:20250505T210000
DTSTAMP:20260421T215538
CREATED:20250107T195608Z
LAST-MODIFIED:20250306T125055Z
UID:10000737-1746468000-1746478800@boardwalkbillysnmb.com
SUMMARY:Jimmy Roca
DESCRIPTION:
URL:https://boardwalkbillysnmb.com/event/jimmy-roca-2/2025-05-05/
LOCATION:Boardwalk Billy’s\, 1407 13th Ave N\, North Myrtle Beach\, SC\, 29582\, United States
CATEGORIES:Live Music
END:VEVENT
END:VCALENDAR