BEGIN:VCALENDAR
VERSION:2.0
PRODID:-//Boardwalk Billy&#039;s - ECPv6.15.20//NONSGML v1.0//EN
CALSCALE:GREGORIAN
METHOD:PUBLISH
X-ORIGINAL-URL:https://boardwalkbillysnmb.com
X-WR-CALDESC:Events for Boardwalk Billy&#039;s
REFRESH-INTERVAL;VALUE=DURATION:PT1H
X-Robots-Tag:noindex
X-PUBLISHED-TTL:PT1H
BEGIN:VTIMEZONE
TZID:America/New_York
BEGIN:DAYLIGHT
TZOFFSETFROM:-0500
TZOFFSETTO:-0400
TZNAME:EDT
DTSTART:20230312T070000
END:DAYLIGHT
BEGIN:STANDARD
TZOFFSETFROM:-0400
TZOFFSETTO:-0500
TZNAME:EST
DTSTART:20231105T060000
END:STANDARD
BEGIN:DAYLIGHT
TZOFFSETFROM:-0500
TZOFFSETTO:-0400
TZNAME:EDT
DTSTART:20240310T070000
END:DAYLIGHT
BEGIN:STANDARD
TZOFFSETFROM:-0400
TZOFFSETTO:-0500
TZNAME:EST
DTSTART:20241103T060000
END:STANDARD
BEGIN:DAYLIGHT
TZOFFSETFROM:-0500
TZOFFSETTO:-0400
TZNAME:EDT
DTSTART:20250309T070000
END:DAYLIGHT
BEGIN:STANDARD
TZOFFSETFROM:-0400
TZOFFSETTO:-0500
TZNAME:EST
DTSTART:20251102T060000
END:STANDARD
END:VTIMEZONE
BEGIN:VEVENT
DTSTART;TZID=America/New_York:20241106T180000
DTEND;TZID=America/New_York:20241106T210000
DTSTAMP:20260419T231746
CREATED:20240115T213312Z
LAST-MODIFIED:20240528T124959Z
UID:10000446-1730916000-1730926800@boardwalkbillysnmb.com
SUMMARY:Jared Cline
DESCRIPTION:
URL:https://boardwalkbillysnmb.com/event/jared-cline-4/2024-11-06/
LOCATION:Boardwalk Billy’s\, 1407 13th Ave N\, North Myrtle Beach\, SC\, 29582\, United States
CATEGORIES:Live Music
END:VEVENT
BEGIN:VEVENT
DTSTART;TZID=America/New_York:20241107T180000
DTEND;TZID=America/New_York:20241107T210000
DTSTAMP:20260419T231746
CREATED:20240117T193059Z
LAST-MODIFIED:20240903T115714Z
UID:10000523-1731002400-1731013200@boardwalkbillysnmb.com
SUMMARY:Stan Gregory
DESCRIPTION:
URL:https://boardwalkbillysnmb.com/event/stan-gregory-9/2024-11-07/
LOCATION:SC
CATEGORIES:Live Music
END:VEVENT
BEGIN:VEVENT
DTSTART;TZID=America/New_York:20241108T190000
DTEND;TZID=America/New_York:20241108T220000
DTSTAMP:20260419T231746
CREATED:20240828T165610Z
LAST-MODIFIED:20240828T165610Z
UID:10000574-1731092400-1731103200@boardwalkbillysnmb.com
SUMMARY:Prettier Than Matt
DESCRIPTION:
URL:https://boardwalkbillysnmb.com/event/prettier-than-matt/
LOCATION:SC
CATEGORIES:Live Music
END:VEVENT
BEGIN:VEVENT
DTSTART;TZID=America/New_York:20241109T183000
DTEND;TZID=America/New_York:20241109T213000
DTSTAMP:20260419T231746
CREATED:20240115T214221Z
LAST-MODIFIED:20240528T124945Z
UID:10000461-1731177000-1731187800@boardwalkbillysnmb.com
SUMMARY:Dune Fox Duo
DESCRIPTION:
URL:https://boardwalkbillysnmb.com/event/dune-fox-duo-2/2024-11-09/
LOCATION:Boardwalk Billy’s\, 1407 13th Ave N\, North Myrtle Beach\, SC\, 29582\, United States
CATEGORIES:Live Music
END:VEVENT
BEGIN:VEVENT
DTSTART;TZID=America/New_York:20241110T170000
DTEND;TZID=America/New_York:20241110T200000
DTSTAMP:20260419T231746
CREATED:20240115T214327Z
LAST-MODIFIED:20240528T124502Z
UID:10000463-1731258000-1731268800@boardwalkbillysnmb.com
SUMMARY:Control Freak
DESCRIPTION:
URL:https://boardwalkbillysnmb.com/event/control-freak-2/2024-11-10/
LOCATION:Boardwalk Billy’s\, 1407 13th Ave N\, North Myrtle Beach\, SC\, 29582\, United States
CATEGORIES:Live Music
END:VEVENT
BEGIN:VEVENT
DTSTART;TZID=America/New_York:20241111T180000
DTEND;TZID=America/New_York:20241111T210000
DTSTAMP:20260419T231746
CREATED:20240109T171238Z
LAST-MODIFIED:20240528T124729Z
UID:10000285-1731348000-1731358800@boardwalkbillysnmb.com
SUMMARY:Randy McQuay
DESCRIPTION:
URL:https://boardwalkbillysnmb.com/event/randy-mcquay-5/2024-11-11/
LOCATION:Boardwalk Billy’s\, 1407 13th Ave N\, North Myrtle Beach\, SC\, 29582\, United States
CATEGORIES:Live Music
END:VEVENT
BEGIN:VEVENT
DTSTART;TZID=America/New_York:20241112T180000
DTEND;TZID=America/New_York:20241112T210000
DTSTAMP:20260419T231746
CREATED:20240115T210344Z
LAST-MODIFIED:20241007T122744Z
UID:10000408-1731434400-1731445200@boardwalkbillysnmb.com
SUMMARY:Jimmy Roca
DESCRIPTION:
URL:https://boardwalkbillysnmb.com/event/jimmy-roca-3/2024-11-12/
LOCATION:Boardwalk Billy’s\, 1407 13th Ave N\, North Myrtle Beach\, SC\, 29582\, United States
CATEGORIES:Live Music
END:VEVENT
BEGIN:VEVENT
DTSTART;TZID=America/New_York:20241112T180000
DTEND;TZID=America/New_York:20241112T210000
DTSTAMP:20260419T231746
CREATED:20240117T191156Z
LAST-MODIFIED:20241210T173510Z
UID:10000489-1731434400-1731445200@boardwalkbillysnmb.com
SUMMARY:Jimmy Roca
DESCRIPTION:
URL:https://boardwalkbillysnmb.com/event/jimmy-roca-4/2024-11-12/
LOCATION:Boardwalk Billy’s\, 1407 13th Ave N\, North Myrtle Beach\, SC\, 29582\, United States
CATEGORIES:Live Music
END:VEVENT
BEGIN:VEVENT
DTSTART;TZID=America/New_York:20241113T180000
DTEND;TZID=America/New_York:20241113T210000
DTSTAMP:20260419T231746
CREATED:20241111T194606Z
LAST-MODIFIED:20241111T194606Z
UID:10000585-1731520800-1731531600@boardwalkbillysnmb.com
SUMMARY:The Pharmacy
DESCRIPTION:
URL:https://boardwalkbillysnmb.com/event/the-pharmacy-3/
LOCATION:Boardwalk Billy’s\, 1407 13th Ave N\, North Myrtle Beach\, SC\, 29582\, United States
CATEGORIES:Live Music
END:VEVENT
BEGIN:VEVENT
DTSTART;TZID=America/New_York:20241114T180000
DTEND;TZID=America/New_York:20241114T210000
DTSTAMP:20260419T231746
CREATED:20240109T171608Z
LAST-MODIFIED:20240826T163323Z
UID:10000326-1731607200-1731618000@boardwalkbillysnmb.com
SUMMARY:MM & Co
DESCRIPTION:
URL:https://boardwalkbillysnmb.com/event/mm-co/2024-11-14/
LOCATION:Boardwalk Billy’s\, 1407 13th Ave N\, North Myrtle Beach\, SC\, 29582\, United States
CATEGORIES:Live Music
END:VEVENT
BEGIN:VEVENT
DTSTART;TZID=America/New_York:20241115T183000
DTEND;TZID=America/New_York:20241115T213000
DTSTAMP:20260419T231746
CREATED:20240110T204423Z
LAST-MODIFIED:20241007T122606Z
UID:10000369-1731695400-1731706200@boardwalkbillysnmb.com
SUMMARY:If Birds Could Fly
DESCRIPTION:
URL:https://boardwalkbillysnmb.com/event/if-birds-could-fly-4/2024-11-15/
LOCATION:SC
CATEGORIES:Live Music
END:VEVENT
BEGIN:VEVENT
DTSTART;TZID=America/New_York:20241116T183000
DTEND;TZID=America/New_York:20241116T213000
DTSTAMP:20260419T231746
CREATED:20241111T125524Z
LAST-MODIFIED:20241111T125524Z
UID:10000584-1731781800-1731792600@boardwalkbillysnmb.com
SUMMARY:Funky Junk Duo
DESCRIPTION:
URL:https://boardwalkbillysnmb.com/event/funky-junk-duo/
LOCATION:Boardwalk Billy’s\, 1407 13th Ave N\, North Myrtle Beach\, SC\, 29582\, United States
CATEGORIES:Live Music
END:VEVENT
BEGIN:VEVENT
DTSTART;TZID=America/New_York:20241117T170000
DTEND;TZID=America/New_York:20241117T200000
DTSTAMP:20260419T231746
CREATED:20240109T171416Z
LAST-MODIFIED:20240528T124657Z
UID:10000303-1731862800-1731873600@boardwalkbillysnmb.com
SUMMARY:William King
DESCRIPTION:
URL:https://boardwalkbillysnmb.com/event/william-king-4/2024-11-17/
LOCATION:Boardwalk Billy’s\, 1407 13th Ave N\, North Myrtle Beach\, SC\, 29582\, United States
CATEGORIES:Live Music
END:VEVENT
BEGIN:VEVENT
DTSTART;TZID=America/New_York:20241118T180000
DTEND;TZID=America/New_York:20241118T210000
DTSTAMP:20260419T231746
CREATED:20240109T171338Z
LAST-MODIFIED:20241001T165852Z
UID:10000299-1731952800-1731963600@boardwalkbillysnmb.com
SUMMARY:Rob Cole
DESCRIPTION:
URL:https://boardwalkbillysnmb.com/event/rob-cole-2/2024-11-18/
LOCATION:Boardwalk Billy’s\, 1407 13th Ave N\, North Myrtle Beach\, SC\, 29582\, United States
CATEGORIES:Live Music
END:VEVENT
BEGIN:VEVENT
DTSTART;TZID=America/New_York:20241119T180000
DTEND;TZID=America/New_York:20241119T210000
DTSTAMP:20260419T231746
CREATED:20240115T205205Z
LAST-MODIFIED:20240528T124819Z
UID:10000382-1732039200-1732050000@boardwalkbillysnmb.com
SUMMARY:Paul Grimshaw
DESCRIPTION:
URL:https://boardwalkbillysnmb.com/event/paul-grimshaw-4/2024-11-19/
LOCATION:Boardwalk Billy’s\, 1407 13th Ave N\, North Myrtle Beach\, SC\, 29582\, United States
CATEGORIES:Live Music
END:VEVENT
BEGIN:VEVENT
DTSTART;TZID=America/New_York:20241120T180000
DTEND;TZID=America/New_York:20241120T210000
DTSTAMP:20260419T231746
CREATED:20241118T124818Z
LAST-MODIFIED:20241118T124818Z
UID:10000586-1732125600-1732136400@boardwalkbillysnmb.com
SUMMARY:Salty Dog
DESCRIPTION:
URL:https://boardwalkbillysnmb.com/event/salty-dog-3/
LOCATION:Boardwalk Billy’s\, 1407 13th Ave N\, North Myrtle Beach\, SC\, 29582\, United States
CATEGORIES:Live Music
END:VEVENT
BEGIN:VEVENT
DTSTART;TZID=America/New_York:20241121T180000
DTEND;TZID=America/New_York:20241121T210000
DTSTAMP:20260419T231746
CREATED:20240117T193059Z
LAST-MODIFIED:20240903T115714Z
UID:10000524-1732212000-1732222800@boardwalkbillysnmb.com
SUMMARY:Stan Gregory
DESCRIPTION:
URL:https://boardwalkbillysnmb.com/event/stan-gregory-9/2024-11-21/
LOCATION:SC
CATEGORIES:Live Music
END:VEVENT
BEGIN:VEVENT
DTSTART;TZID=America/New_York:20241122T183000
DTEND;TZID=America/New_York:20241122T213000
DTSTAMP:20260419T231746
CREATED:20240110T203323Z
LAST-MODIFIED:20240528T124644Z
UID:10000349-1732300200-1732311000@boardwalkbillysnmb.com
SUMMARY:Super Reggae Man
DESCRIPTION:
URL:https://boardwalkbillysnmb.com/event/super-reggae-man-4/2024-11-22/
LOCATION:Boardwalk Billy’s\, 1407 13th Ave N\, North Myrtle Beach\, SC\, 29582\, United States
CATEGORIES:Live Music
END:VEVENT
BEGIN:VEVENT
DTSTART;TZID=America/New_York:20241123T183000
DTEND;TZID=America/New_York:20241123T213000
DTSTAMP:20260419T231746
CREATED:20240115T214823Z
LAST-MODIFIED:20240528T124522Z
UID:10000469-1732386600-1732397400@boardwalkbillysnmb.com
SUMMARY:The Pharmacy
DESCRIPTION:
URL:https://boardwalkbillysnmb.com/event/the-pharmacy-2/2024-11-23/
LOCATION:Boardwalk Billy’s\, 1407 13th Ave N\, North Myrtle Beach\, SC\, 29582\, United States
CATEGORIES:Live Music
END:VEVENT
BEGIN:VEVENT
DTSTART;TZID=America/New_York:20241124T170000
DTEND;TZID=America/New_York:20241124T200000
DTSTAMP:20260419T231746
CREATED:20241118T124846Z
LAST-MODIFIED:20241118T124846Z
UID:10000587-1732467600-1732478400@boardwalkbillysnmb.com
SUMMARY:Stringwood
DESCRIPTION:
URL:https://boardwalkbillysnmb.com/event/stringwood-2/
LOCATION:Boardwalk Billy’s\, 1407 13th Ave N\, North Myrtle Beach\, SC\, 29582\, United States
CATEGORIES:Live Music
END:VEVENT
BEGIN:VEVENT
DTSTART;TZID=America/New_York:20241125T180000
DTEND;TZID=America/New_York:20241125T210000
DTSTAMP:20260419T231746
CREATED:20240115T213431Z
LAST-MODIFIED:20240528T125004Z
UID:10000448-1732557600-1732568400@boardwalkbillysnmb.com
SUMMARY:Shaun Brown
DESCRIPTION:
URL:https://boardwalkbillysnmb.com/event/shaun-brown-3/2024-11-25/
LOCATION:Boardwalk Billy’s\, 1407 13th Ave N\, North Myrtle Beach\, SC\, 29582\, United States
CATEGORIES:Live Music
END:VEVENT
BEGIN:VEVENT
DTSTART;TZID=America/New_York:20241126T180000
DTEND;TZID=America/New_York:20241126T210000
DTSTAMP:20260419T231746
CREATED:20240115T213913Z
LAST-MODIFIED:20240528T124936Z
UID:10000458-1732644000-1732654800@boardwalkbillysnmb.com
SUMMARY:Alex Austin
DESCRIPTION:
URL:https://boardwalkbillysnmb.com/event/alex-austin-4/2024-11-26/
LOCATION:Boardwalk Billy’s\, 1407 13th Ave N\, North Myrtle Beach\, SC\, 29582\, United States
CATEGORIES:Live Music
END:VEVENT
BEGIN:VEVENT
DTSTART;TZID=America/New_York:20241127T180000
DTEND;TZID=America/New_York:20241127T210000
DTSTAMP:20260419T231746
CREATED:20240109T171608Z
LAST-MODIFIED:20240826T163323Z
UID:10000327-1732730400-1732741200@boardwalkbillysnmb.com
SUMMARY:MM & Co
DESCRIPTION:
URL:https://boardwalkbillysnmb.com/event/mm-co/2024-11-27/
LOCATION:Boardwalk Billy’s\, 1407 13th Ave N\, North Myrtle Beach\, SC\, 29582\, United States
CATEGORIES:Live Music
END:VEVENT
BEGIN:VEVENT
DTSTART;VALUE=DATE:20241128
DTEND;VALUE=DATE:20241129
DTSTAMP:20260419T231746
CREATED:20241125T140752Z
LAST-MODIFIED:20241125T140752Z
UID:10000588-1732752000-1732838399@boardwalkbillysnmb.com
SUMMARY:Closed
DESCRIPTION:
URL:https://boardwalkbillysnmb.com/event/closed/
LOCATION:Boardwalk Billy’s\, 1407 13th Ave N\, North Myrtle Beach\, SC\, 29582\, United States
CATEGORIES:Hours
END:VEVENT
BEGIN:VEVENT
DTSTART;TZID=America/New_York:20241129T183000
DTEND;TZID=America/New_York:20241129T213000
DTSTAMP:20260419T231746
CREATED:20241125T140820Z
LAST-MODIFIED:20241125T140820Z
UID:10000589-1732905000-1732915800@boardwalkbillysnmb.com
SUMMARY:Alan Bibey Duo
DESCRIPTION:
URL:https://boardwalkbillysnmb.com/event/alan-bibey-duo/
LOCATION:Boardwalk Billy’s\, 1407 13th Ave N\, North Myrtle Beach\, SC\, 29582\, United States
CATEGORIES:Live Music
END:VEVENT
BEGIN:VEVENT
DTSTART;TZID=America/New_York:20241130T130000
DTEND;TZID=America/New_York:20241130T160000
DTSTAMP:20260419T231746
CREATED:20241125T140855Z
LAST-MODIFIED:20241125T140855Z
UID:10000590-1732971600-1732982400@boardwalkbillysnmb.com
SUMMARY:Alex Austin Trio
DESCRIPTION:
URL:https://boardwalkbillysnmb.com/event/alex-austin-trio/
LOCATION:Boardwalk Billy’s\, 1407 13th Ave N\, North Myrtle Beach\, SC\, 29582\, United States
CATEGORIES:Live Music
END:VEVENT
BEGIN:VEVENT
DTSTART;TZID=America/New_York:20241130T180000
DTEND;TZID=America/New_York:20241130T210000
DTSTAMP:20260419T231746
CREATED:20241125T140928Z
LAST-MODIFIED:20241125T140928Z
UID:10000591-1732989600-1733000400@boardwalkbillysnmb.com
SUMMARY:Randy Atwood & The Renegades
DESCRIPTION:
URL:https://boardwalkbillysnmb.com/event/randy-atwood-the-renegades/
LOCATION:Boardwalk Billy’s\, 1407 13th Ave N\, North Myrtle Beach\, SC\, 29582\, United States
CATEGORIES:Live Music
END:VEVENT
BEGIN:VEVENT
DTSTART;TZID=America/New_York:20241201T170000
DTEND;TZID=America/New_York:20241201T200000
DTSTAMP:20260419T231746
CREATED:20240117T215120Z
LAST-MODIFIED:20240528T124426Z
UID:10000532-1733072400-1733083200@boardwalkbillysnmb.com
SUMMARY:Mike Waters
DESCRIPTION:
URL:https://boardwalkbillysnmb.com/event/mike-waters-3/
LOCATION:SC
CATEGORIES:Live Music
END:VEVENT
BEGIN:VEVENT
DTSTART;TZID=America/New_York:20241202T170000
DTEND;TZID=America/New_York:20241202T200000
DTSTAMP:20260419T231746
CREATED:20240109T171338Z
LAST-MODIFIED:20241001T165852Z
UID:10000533-1733158800-1733169600@boardwalkbillysnmb.com
SUMMARY:Rob Cole
DESCRIPTION:
URL:https://boardwalkbillysnmb.com/event/rob-cole-2/2024-12-02/
LOCATION:Boardwalk Billy’s\, 1407 13th Ave N\, North Myrtle Beach\, SC\, 29582\, United States
CATEGORIES:Live Music
END:VEVENT
BEGIN:VEVENT
DTSTART;TZID=America/New_York:20241203T170000
DTEND;TZID=America/New_York:20241203T200000
DTSTAMP:20260419T231746
CREATED:20240115T213710Z
LAST-MODIFIED:20240528T124932Z
UID:10000496-1733245200-1733256000@boardwalkbillysnmb.com
SUMMARY:Campbell Bridgeman
DESCRIPTION:
URL:https://boardwalkbillysnmb.com/event/campbell-bridgeman-4/2024-12-03/
LOCATION:Boardwalk Billy’s\, 1407 13th Ave N\, North Myrtle Beach\, SC\, 29582\, United States
CATEGORIES:Live Music
END:VEVENT
END:VCALENDAR