BEGIN:VCALENDAR
VERSION:2.0
PRODID:-//Boardwalk Billy&#039;s - ECPv6.15.20//NONSGML v1.0//EN
CALSCALE:GREGORIAN
METHOD:PUBLISH
X-WR-CALNAME:Boardwalk Billy&#039;s
X-ORIGINAL-URL:https://boardwalkbillysnmb.com
X-WR-CALDESC:Events for Boardwalk Billy&#039;s
REFRESH-INTERVAL;VALUE=DURATION:PT1H
X-Robots-Tag:noindex
X-PUBLISHED-TTL:PT1H
BEGIN:VTIMEZONE
TZID:America/New_York
BEGIN:DAYLIGHT
TZOFFSETFROM:-0500
TZOFFSETTO:-0400
TZNAME:EDT
DTSTART:20230312T070000
END:DAYLIGHT
BEGIN:STANDARD
TZOFFSETFROM:-0400
TZOFFSETTO:-0500
TZNAME:EST
DTSTART:20231105T060000
END:STANDARD
BEGIN:DAYLIGHT
TZOFFSETFROM:-0500
TZOFFSETTO:-0400
TZNAME:EDT
DTSTART:20240310T070000
END:DAYLIGHT
BEGIN:STANDARD
TZOFFSETFROM:-0400
TZOFFSETTO:-0500
TZNAME:EST
DTSTART:20241103T060000
END:STANDARD
BEGIN:DAYLIGHT
TZOFFSETFROM:-0500
TZOFFSETTO:-0400
TZNAME:EDT
DTSTART:20250309T070000
END:DAYLIGHT
BEGIN:STANDARD
TZOFFSETFROM:-0400
TZOFFSETTO:-0500
TZNAME:EST
DTSTART:20251102T060000
END:STANDARD
BEGIN:DAYLIGHT
TZOFFSETFROM:-0500
TZOFFSETTO:-0400
TZNAME:EDT
DTSTART:20260308T070000
END:DAYLIGHT
BEGIN:STANDARD
TZOFFSETFROM:-0400
TZOFFSETTO:-0500
TZNAME:EST
DTSTART:20261101T060000
END:STANDARD
END:VTIMEZONE
BEGIN:VEVENT
DTSTART;TZID=America/New_York:20241204T170000
DTEND;TZID=America/New_York:20241204T200000
DTSTAMP:20260420T021727
CREATED:20240117T215308Z
LAST-MODIFIED:20240528T124418Z
UID:10000534-1733331600-1733342400@boardwalkbillysnmb.com
SUMMARY:Mark Daffer
DESCRIPTION:
URL:https://boardwalkbillysnmb.com/event/mark-daffer-3/
LOCATION:SC
CATEGORIES:Live Music
END:VEVENT
BEGIN:VEVENT
DTSTART;TZID=America/New_York:20241205T170000
DTEND;TZID=America/New_York:20241205T200000
DTSTAMP:20260420T021727
CREATED:20240117T193059Z
LAST-MODIFIED:20240903T115714Z
UID:10000525-1733418000-1733428800@boardwalkbillysnmb.com
SUMMARY:Stan Gregory
DESCRIPTION:
URL:https://boardwalkbillysnmb.com/event/stan-gregory-9/2024-12-05/
LOCATION:SC
CATEGORIES:Live Music
END:VEVENT
BEGIN:VEVENT
DTSTART;TZID=America/New_York:20241206T180000
DTEND;TZID=America/New_York:20241206T210000
DTSTAMP:20260420T021727
CREATED:20240109T171608Z
LAST-MODIFIED:20240826T163323Z
UID:10000328-1733508000-1733518800@boardwalkbillysnmb.com
SUMMARY:MM & Co
DESCRIPTION:
URL:https://boardwalkbillysnmb.com/event/mm-co/2024-12-06/
LOCATION:Boardwalk Billy’s\, 1407 13th Ave N\, North Myrtle Beach\, SC\, 29582\, United States
CATEGORIES:Live Music
END:VEVENT
BEGIN:VEVENT
DTSTART;TZID=America/New_York:20241207T190000
DTEND;TZID=America/New_York:20241207T220000
DTSTAMP:20260420T021727
CREATED:20240109T171635Z
LAST-MODIFIED:20240528T124711Z
UID:10000337-1733598000-1733608800@boardwalkbillysnmb.com
SUMMARY:Tidal Wave
DESCRIPTION:
URL:https://boardwalkbillysnmb.com/event/tidal-wave-4/2024-12-07/
LOCATION:Boardwalk Billy’s\, 1407 13th Ave N\, North Myrtle Beach\, SC\, 29582\, United States
CATEGORIES:Live Music
END:VEVENT
BEGIN:VEVENT
DTSTART;TZID=America/New_York:20241208T170000
DTEND;TZID=America/New_York:20241208T200000
DTSTAMP:20260420T021727
CREATED:20240115T211901Z
LAST-MODIFIED:20240528T124918Z
UID:10000497-1733677200-1733688000@boardwalkbillysnmb.com
SUMMARY:Mike O'Donnell
DESCRIPTION:
URL:https://boardwalkbillysnmb.com/event/mike-odonnell-4/2024-12-08/
LOCATION:Boardwalk Billy’s\, 1407 13th Ave N\, North Myrtle Beach\, SC\, 29582\, United States
CATEGORIES:Live Music
END:VEVENT
BEGIN:VEVENT
DTSTART;TZID=America/New_York:20241209T170000
DTEND;TZID=America/New_York:20241209T200000
DTSTAMP:20260420T021727
CREATED:20240109T171238Z
LAST-MODIFIED:20240528T124729Z
UID:10000286-1733763600-1733774400@boardwalkbillysnmb.com
SUMMARY:Randy McQuay
DESCRIPTION:
URL:https://boardwalkbillysnmb.com/event/randy-mcquay-5/2024-12-09/
LOCATION:Boardwalk Billy’s\, 1407 13th Ave N\, North Myrtle Beach\, SC\, 29582\, United States
CATEGORIES:Live Music
END:VEVENT
BEGIN:VEVENT
DTSTART;TZID=America/New_York:20241210T170000
DTEND;TZID=America/New_York:20241210T200000
DTSTAMP:20260420T021727
CREATED:20241210T173838Z
LAST-MODIFIED:20241210T173838Z
UID:10000592-1733850000-1733860800@boardwalkbillysnmb.com
SUMMARY:Alex Austin
DESCRIPTION:
URL:https://boardwalkbillysnmb.com/event/alex-austin/
LOCATION:Boardwalk Billy’s\, 1407 13th Ave N\, North Myrtle Beach\, SC\, 29582\, United States
CATEGORIES:Live Music
END:VEVENT
BEGIN:VEVENT
DTSTART;TZID=America/New_York:20241211T170000
DTEND;TZID=America/New_York:20241211T200000
DTSTAMP:20260420T021727
CREATED:20240109T171416Z
LAST-MODIFIED:20240528T124657Z
UID:10000304-1733936400-1733947200@boardwalkbillysnmb.com
SUMMARY:William King
DESCRIPTION:
URL:https://boardwalkbillysnmb.com/event/william-king-4/2024-12-11/
LOCATION:Boardwalk Billy’s\, 1407 13th Ave N\, North Myrtle Beach\, SC\, 29582\, United States
CATEGORIES:Live Music
END:VEVENT
BEGIN:VEVENT
DTSTART;TZID=America/New_York:20241212T170000
DTEND;TZID=America/New_York:20241212T200000
DTSTAMP:20260420T021727
CREATED:20240117T193059Z
LAST-MODIFIED:20240903T115714Z
UID:10000526-1734022800-1734033600@boardwalkbillysnmb.com
SUMMARY:Stan Gregory
DESCRIPTION:
URL:https://boardwalkbillysnmb.com/event/stan-gregory-9/2024-12-12/
LOCATION:SC
CATEGORIES:Live Music
END:VEVENT
BEGIN:VEVENT
DTSTART;TZID=America/New_York:20241213T180000
DTEND;TZID=America/New_York:20241213T210000
DTSTAMP:20260420T021727
CREATED:20240110T204423Z
LAST-MODIFIED:20241007T122606Z
UID:10000370-1734112800-1734123600@boardwalkbillysnmb.com
SUMMARY:If Birds Could Fly
DESCRIPTION:
URL:https://boardwalkbillysnmb.com/event/if-birds-could-fly-4/2024-12-13/
LOCATION:SC
CATEGORIES:Live Music
END:VEVENT
BEGIN:VEVENT
DTSTART;TZID=America/New_York:20241214T180000
DTEND;TZID=America/New_York:20241214T210000
DTSTAMP:20260420T021727
CREATED:20240115T210940Z
LAST-MODIFIED:20240528T124905Z
UID:10000498-1734199200-1734210000@boardwalkbillysnmb.com
SUMMARY:Nick Andolora
DESCRIPTION:
URL:https://boardwalkbillysnmb.com/event/nick-andolora-4/2024-12-14/
LOCATION:Boardwalk Billy’s\, 1407 13th Ave N\, North Myrtle Beach\, SC\, 29582\, United States
CATEGORIES:Live Music
END:VEVENT
BEGIN:VEVENT
DTSTART;TZID=America/New_York:20241216T170000
DTEND;TZID=America/New_York:20241216T200000
DTSTAMP:20260420T021727
CREATED:20240109T171338Z
LAST-MODIFIED:20241001T165852Z
UID:10000300-1734368400-1734379200@boardwalkbillysnmb.com
SUMMARY:Rob Cole
DESCRIPTION:
URL:https://boardwalkbillysnmb.com/event/rob-cole-2/2024-12-16/
LOCATION:Boardwalk Billy’s\, 1407 13th Ave N\, North Myrtle Beach\, SC\, 29582\, United States
CATEGORIES:Live Music
END:VEVENT
BEGIN:VEVENT
DTSTART;TZID=America/New_York:20241217T170000
DTEND;TZID=America/New_York:20241217T200000
DTSTAMP:20260420T021727
CREATED:20240115T205205Z
LAST-MODIFIED:20240528T124819Z
UID:10000499-1734454800-1734465600@boardwalkbillysnmb.com
SUMMARY:Paul Grimshaw
DESCRIPTION:
URL:https://boardwalkbillysnmb.com/event/paul-grimshaw-4/2024-12-17/
LOCATION:Boardwalk Billy’s\, 1407 13th Ave N\, North Myrtle Beach\, SC\, 29582\, United States
CATEGORIES:Live Music
END:VEVENT
BEGIN:VEVENT
DTSTART;TZID=America/New_York:20241218T180000
DTEND;TZID=America/New_York:20241218T210000
DTSTAMP:20260420T021727
CREATED:20240109T171608Z
LAST-MODIFIED:20240826T163323Z
UID:10000329-1734544800-1734555600@boardwalkbillysnmb.com
SUMMARY:MM & Co
DESCRIPTION:
URL:https://boardwalkbillysnmb.com/event/mm-co/2024-12-18/
LOCATION:Boardwalk Billy’s\, 1407 13th Ave N\, North Myrtle Beach\, SC\, 29582\, United States
CATEGORIES:Live Music
END:VEVENT
BEGIN:VEVENT
DTSTART;TZID=America/New_York:20241219T170000
DTEND;TZID=America/New_York:20241219T200000
DTSTAMP:20260420T021727
CREATED:20240117T193059Z
LAST-MODIFIED:20240903T115714Z
UID:10000527-1734627600-1734638400@boardwalkbillysnmb.com
SUMMARY:Stan Gregory
DESCRIPTION:
URL:https://boardwalkbillysnmb.com/event/stan-gregory-9/2024-12-19/
LOCATION:SC
CATEGORIES:Live Music
END:VEVENT
BEGIN:VEVENT
DTSTART;TZID=America/New_York:20241220T180000
DTEND;TZID=America/New_York:20241220T180000
DTSTAMP:20260420T021727
CREATED:20240115T213312Z
LAST-MODIFIED:20240528T124959Z
UID:10000536-1734717600-1734717600@boardwalkbillysnmb.com
SUMMARY:Jared Cline
DESCRIPTION:
URL:https://boardwalkbillysnmb.com/event/jared-cline-4/2024-12-20/
LOCATION:Boardwalk Billy’s\, 1407 13th Ave N\, North Myrtle Beach\, SC\, 29582\, United States
CATEGORIES:Live Music
END:VEVENT
BEGIN:VEVENT
DTSTART;TZID=America/New_York:20241221T180000
DTEND;TZID=America/New_York:20241221T210000
DTSTAMP:20260420T021727
CREATED:20240102T182841Z
LAST-MODIFIED:20240528T124631Z
UID:10000537-1734804000-1734814800@boardwalkbillysnmb.com
SUMMARY:Ronnie O'Briant
DESCRIPTION:
URL:https://boardwalkbillysnmb.com/event/ronnie-obriant-2/2024-12-21/
LOCATION:Boardwalk Billy’s\, 1407 13th Ave N\, North Myrtle Beach\, SC\, 29582\, United States
CATEGORIES:Live Music
END:VEVENT
BEGIN:VEVENT
DTSTART;TZID=America/New_York:20241226T170000
DTEND;TZID=America/New_York:20241226T200000
DTSTAMP:20260420T021727
CREATED:20240117T193059Z
LAST-MODIFIED:20240903T115714Z
UID:10000528-1735232400-1735243200@boardwalkbillysnmb.com
SUMMARY:Stan Gregory
DESCRIPTION:
URL:https://boardwalkbillysnmb.com/event/stan-gregory-9/2024-12-26/
LOCATION:SC
CATEGORIES:Live Music
END:VEVENT
BEGIN:VEVENT
DTSTART;TZID=America/New_York:20241228T180000
DTEND;TZID=America/New_York:20241228T210000
DTSTAMP:20260420T021727
CREATED:20240115T212518Z
LAST-MODIFIED:20240528T124950Z
UID:10000538-1735408800-1735419600@boardwalkbillysnmb.com
SUMMARY:Austin Floyd
DESCRIPTION:
URL:https://boardwalkbillysnmb.com/event/austin-floyd-3/2024-12-28/
LOCATION:Boardwalk Billy’s\, 1407 13th Ave N\, North Myrtle Beach\, SC\, 29582\, United States
CATEGORIES:Live Music
END:VEVENT
BEGIN:VEVENT
DTSTART;TZID=America/New_York:20241229T170000
DTEND;TZID=America/New_York:20241229T200000
DTSTAMP:20260420T021727
CREATED:20240115T214457Z
LAST-MODIFIED:20240528T124507Z
UID:10000539-1735491600-1735502400@boardwalkbillysnmb.com
SUMMARY:Sweet Sweet
DESCRIPTION:
URL:https://boardwalkbillysnmb.com/event/sweet-sweet-4/2024-12-29/
LOCATION:Boardwalk Billy’s\, 1407 13th Ave N\, North Myrtle Beach\, SC\, 29582\, United States
CATEGORIES:Live Music
END:VEVENT
BEGIN:VEVENT
DTSTART;TZID=America/New_York:20241230T170000
DTEND;TZID=America/New_York:20241230T200000
DTSTAMP:20260420T021727
CREATED:20240115T214717Z
LAST-MODIFIED:20240528T124516Z
UID:10000540-1735578000-1735588800@boardwalkbillysnmb.com
SUMMARY:Cam Nesbitt
DESCRIPTION:
URL:https://boardwalkbillysnmb.com/event/cam-nesbitt-4/2024-12-30/
LOCATION:Boardwalk Billy’s\, 1407 13th Ave N\, North Myrtle Beach\, SC\, 29582\, United States
CATEGORIES:Live Music
END:VEVENT
BEGIN:VEVENT
DTSTART;TZID=America/New_York:20241231T200000
DTEND;TZID=America/New_York:20241231T230000
DTSTAMP:20260420T021727
CREATED:20241217T124104Z
LAST-MODIFIED:20241217T124104Z
UID:10000593-1735675200-1735686000@boardwalkbillysnmb.com
SUMMARY:A Hoppy New Year Party
DESCRIPTION:
URL:https://boardwalkbillysnmb.com/event/a-hoppy-new-year-party/
LOCATION:Boardwalk Billy’s\, 1407 13th Ave N\, North Myrtle Beach\, SC\, 29582\, United States
CATEGORIES:Live Music,Party
END:VEVENT
BEGIN:VEVENT
DTSTART;TZID=America/New_York:20250101T170000
DTEND;TZID=America/New_York:20250101T200000
DTSTAMP:20260420T021727
CREATED:20241230T132843Z
LAST-MODIFIED:20241230T132843Z
UID:10000594-1735750800-1735761600@boardwalkbillysnmb.com
SUMMARY:Mike Waters
DESCRIPTION:
URL:https://boardwalkbillysnmb.com/event/mike-waters/
LOCATION:Boardwalk Billy’s\, 1407 13th Ave N\, North Myrtle Beach\, SC\, 29582\, United States
CATEGORIES:Live Music
END:VEVENT
BEGIN:VEVENT
DTSTART;TZID=America/New_York:20250102T170000
DTEND;TZID=America/New_York:20250102T200000
DTSTAMP:20260420T021727
CREATED:20241230T132957Z
LAST-MODIFIED:20241230T132957Z
UID:10000595-1735837200-1735848000@boardwalkbillysnmb.com
SUMMARY:Stan Gregory
DESCRIPTION:
URL:https://boardwalkbillysnmb.com/event/stan-gregory-3/2025-01-02/
LOCATION:Boardwalk Billy’s\, 1407 13th Ave N\, North Myrtle Beach\, SC\, 29582\, United States
CATEGORIES:Live Music
END:VEVENT
BEGIN:VEVENT
DTSTART;TZID=America/New_York:20250103T180000
DTEND;TZID=America/New_York:20250103T210000
DTSTAMP:20260420T021727
CREATED:20241230T133040Z
LAST-MODIFIED:20241230T133040Z
UID:10000598-1735927200-1735938000@boardwalkbillysnmb.com
SUMMARY:The Pharmacy
DESCRIPTION:
URL:https://boardwalkbillysnmb.com/event/the-pharmacy-4/
LOCATION:Boardwalk Billy’s\, 1407 13th Ave N\, North Myrtle Beach\, SC\, 29582\, United States
CATEGORIES:Live Music
END:VEVENT
BEGIN:VEVENT
DTSTART;TZID=America/New_York:20250104T180000
DTEND;TZID=America/New_York:20250104T210000
DTSTAMP:20260420T021727
CREATED:20241230T133108Z
LAST-MODIFIED:20241230T133108Z
UID:10000599-1736013600-1736024400@boardwalkbillysnmb.com
SUMMARY:Tidal Wave
DESCRIPTION:
URL:https://boardwalkbillysnmb.com/event/tidal-wave/
LOCATION:Boardwalk Billy’s\, 1407 13th Ave N\, North Myrtle Beach\, SC\, 29582\, United States
CATEGORIES:Live Music
END:VEVENT
BEGIN:VEVENT
DTSTART;TZID=America/New_York:20250105T170000
DTEND;TZID=America/New_York:20250105T200000
DTSTAMP:20260420T021727
CREATED:20241230T133136Z
LAST-MODIFIED:20241230T133136Z
UID:10000600-1736096400-1736107200@boardwalkbillysnmb.com
SUMMARY:Mike O'Donnell
DESCRIPTION:
URL:https://boardwalkbillysnmb.com/event/mike-odonnell/
LOCATION:Boardwalk Billy’s\, 1407 13th Ave N\, North Myrtle Beach\, SC\, 29582\, United States
CATEGORIES:Live Music
END:VEVENT
BEGIN:VEVENT
DTSTART;TZID=America/New_York:20250106T170000
DTEND;TZID=America/New_York:20250106T200000
DTSTAMP:20260420T021727
CREATED:20241230T133215Z
LAST-MODIFIED:20241230T133215Z
UID:10000601-1736182800-1736193600@boardwalkbillysnmb.com
SUMMARY:William King
DESCRIPTION:
URL:https://boardwalkbillysnmb.com/event/william-king/
LOCATION:Boardwalk Billy’s\, 1407 13th Ave N\, North Myrtle Beach\, SC\, 29582\, United States
CATEGORIES:Live Music
END:VEVENT
BEGIN:VEVENT
DTSTART;TZID=America/New_York:20250107T170000
DTEND;TZID=America/New_York:20250107T200000
DTSTAMP:20260420T021727
CREATED:20241230T133247Z
LAST-MODIFIED:20241230T133247Z
UID:10000602-1736269200-1736280000@boardwalkbillysnmb.com
SUMMARY:Jimmy Roca
DESCRIPTION:
URL:https://boardwalkbillysnmb.com/event/jimmy-roca/
LOCATION:Boardwalk Billy’s\, 1407 13th Ave N\, North Myrtle Beach\, SC\, 29582\, United States
CATEGORIES:Live Music
END:VEVENT
BEGIN:VEVENT
DTSTART;TZID=America/New_York:20250108T170000
DTEND;TZID=America/New_York:20250108T200000
DTSTAMP:20260420T021727
CREATED:20241230T133316Z
LAST-MODIFIED:20241230T133338Z
UID:10000603-1736355600-1736366400@boardwalkbillysnmb.com
SUMMARY:Randy Atwood Duo
DESCRIPTION:
URL:https://boardwalkbillysnmb.com/event/randy-atwood-duo/2025-01-08/
LOCATION:Boardwalk Billy’s\, 1407 13th Ave N\, North Myrtle Beach\, SC\, 29582\, United States
CATEGORIES:Live Music
END:VEVENT
END:VCALENDAR