BEGIN:VCALENDAR
VERSION:2.0
PRODID:-//Boardwalk Billy&#039;s - ECPv6.15.20//NONSGML v1.0//EN
CALSCALE:GREGORIAN
METHOD:PUBLISH
X-WR-CALNAME:Boardwalk Billy&#039;s
X-ORIGINAL-URL:https://boardwalkbillysnmb.com
X-WR-CALDESC:Events for Boardwalk Billy&#039;s
REFRESH-INTERVAL;VALUE=DURATION:PT1H
X-Robots-Tag:noindex
X-PUBLISHED-TTL:PT1H
BEGIN:VTIMEZONE
TZID:America/New_York
BEGIN:DAYLIGHT
TZOFFSETFROM:-0500
TZOFFSETTO:-0400
TZNAME:EDT
DTSTART:20240310T070000
END:DAYLIGHT
BEGIN:STANDARD
TZOFFSETFROM:-0400
TZOFFSETTO:-0500
TZNAME:EST
DTSTART:20241103T060000
END:STANDARD
BEGIN:DAYLIGHT
TZOFFSETFROM:-0500
TZOFFSETTO:-0400
TZNAME:EDT
DTSTART:20250309T070000
END:DAYLIGHT
BEGIN:STANDARD
TZOFFSETFROM:-0400
TZOFFSETTO:-0500
TZNAME:EST
DTSTART:20251102T060000
END:STANDARD
BEGIN:DAYLIGHT
TZOFFSETFROM:-0500
TZOFFSETTO:-0400
TZNAME:EDT
DTSTART:20260308T070000
END:DAYLIGHT
BEGIN:STANDARD
TZOFFSETFROM:-0400
TZOFFSETTO:-0500
TZNAME:EST
DTSTART:20261101T060000
END:STANDARD
END:VTIMEZONE
BEGIN:VEVENT
DTSTART;TZID=America/New_York:20250213T170000
DTEND;TZID=America/New_York:20250213T200000
DTSTAMP:20260419T110221
CREATED:20250107T200956Z
LAST-MODIFIED:20250107T200956Z
UID:10000766-1739466000-1739476800@boardwalkbillysnmb.com
SUMMARY:Stan Gregory
DESCRIPTION:
URL:https://boardwalkbillysnmb.com/event/stan-gregory-4/2025-02-13/
LOCATION:Boardwalk Billy’s\, 1407 13th Ave N\, North Myrtle Beach\, SC\, 29582\, United States
CATEGORIES:Live Music
END:VEVENT
BEGIN:VEVENT
DTSTART;TZID=America/New_York:20250212T170000
DTEND;TZID=America/New_York:20250212T200000
DTSTAMP:20260419T110221
CREATED:20250107T194052Z
LAST-MODIFIED:20251222T152026Z
UID:10000694-1739379600-1739390400@boardwalkbillysnmb.com
SUMMARY:Rob Cole
DESCRIPTION:
URL:https://boardwalkbillysnmb.com/event/rob-cole-3/2025-02-12/
LOCATION:Boardwalk Billy’s\, 1407 13th Ave N\, North Myrtle Beach\, SC\, 29582\, United States
CATEGORIES:Live Music
END:VEVENT
BEGIN:VEVENT
DTSTART;TZID=America/New_York:20250211T170000
DTEND;TZID=America/New_York:20250211T200000
DTSTAMP:20260419T110221
CREATED:20250107T200257Z
LAST-MODIFIED:20250811T133326Z
UID:10000744-1739293200-1739304000@boardwalkbillysnmb.com
SUMMARY:Seth Thomas & Jonathan Locklear
DESCRIPTION:
URL:https://boardwalkbillysnmb.com/event/seth-thomas-jonathan-locklear-2/2025-02-11/
LOCATION:Boardwalk Billy’s\, 1407 13th Ave N\, North Myrtle Beach\, SC\, 29582\, United States
CATEGORIES:Live Music
END:VEVENT
BEGIN:VEVENT
DTSTART;TZID=America/New_York:20250210T170000
DTEND;TZID=America/New_York:20250210T200000
DTSTAMP:20260419T110221
CREATED:20250107T195608Z
LAST-MODIFIED:20250306T125055Z
UID:10000735-1739206800-1739217600@boardwalkbillysnmb.com
SUMMARY:Jimmy Roca
DESCRIPTION:
URL:https://boardwalkbillysnmb.com/event/jimmy-roca-2/2025-02-10/
LOCATION:Boardwalk Billy’s\, 1407 13th Ave N\, North Myrtle Beach\, SC\, 29582\, United States
CATEGORIES:Live Music
END:VEVENT
BEGIN:VEVENT
DTSTART;TZID=America/New_York:20250209T130000
DTEND;TZID=America/New_York:20250209T160000
DTSTAMP:20260419T110221
CREATED:20250204T160152Z
LAST-MODIFIED:20250204T160152Z
UID:10000956-1739106000-1739116800@boardwalkbillysnmb.com
SUMMARY:Mark Daffer
DESCRIPTION:
URL:https://boardwalkbillysnmb.com/event/mark-daffer/
LOCATION:Boardwalk Billy’s\, 1407 13th Ave N\, North Myrtle Beach\, SC\, 29582\, United States
CATEGORIES:Live Music
END:VEVENT
BEGIN:VEVENT
DTSTART;TZID=America/New_York:20250208T180000
DTEND;TZID=America/New_York:20250208T210000
DTSTAMP:20260419T110221
CREATED:20250107T194442Z
LAST-MODIFIED:20250107T194442Z
UID:10000722-1739037600-1739048400@boardwalkbillysnmb.com
SUMMARY:Alex Austin Duo
DESCRIPTION:
URL:https://boardwalkbillysnmb.com/event/alex-austin-duo/2025-02-08/
LOCATION:Boardwalk Billy’s\, 1407 13th Ave N\, North Myrtle Beach\, SC\, 29582\, United States
CATEGORIES:Live Music
END:VEVENT
BEGIN:VEVENT
DTSTART;TZID=America/New_York:20250207T180000
DTEND;TZID=America/New_York:20250207T210000
DTSTAMP:20260419T110221
CREATED:20250107T194052Z
LAST-MODIFIED:20251222T152026Z
UID:10000693-1738951200-1738962000@boardwalkbillysnmb.com
SUMMARY:Rob Cole
DESCRIPTION:
URL:https://boardwalkbillysnmb.com/event/rob-cole-3/2025-02-07/
LOCATION:Boardwalk Billy’s\, 1407 13th Ave N\, North Myrtle Beach\, SC\, 29582\, United States
CATEGORIES:Live Music
END:VEVENT
BEGIN:VEVENT
DTSTART;TZID=America/New_York:20250206T170000
DTEND;TZID=America/New_York:20250206T200000
DTSTAMP:20260419T110221
CREATED:20250107T192940Z
LAST-MODIFIED:20251215T134310Z
UID:10000671-1738861200-1738872000@boardwalkbillysnmb.com
SUMMARY:MMC
DESCRIPTION:
URL:https://boardwalkbillysnmb.com/event/mmc/2025-02-06/
LOCATION:Boardwalk Billy’s\, 1407 13th Ave N\, North Myrtle Beach\, SC\, 29582\, United States
CATEGORIES:Live Music
END:VEVENT
BEGIN:VEVENT
DTSTART;TZID=America/New_York:20250205T170000
DTEND;TZID=America/New_York:20250205T200000
DTSTAMP:20260419T110221
CREATED:20250107T192313Z
LAST-MODIFIED:20250107T192313Z
UID:10000652-1738774800-1738785600@boardwalkbillysnmb.com
SUMMARY:Randy Atwood Duo
DESCRIPTION:
URL:https://boardwalkbillysnmb.com/event/randy-atwood-duo-2/2025-02-05/
LOCATION:Boardwalk Billy’s\, 1407 13th Ave N\, North Myrtle Beach\, SC\, 29582\, United States
CATEGORIES:Live Music
END:VEVENT
BEGIN:VEVENT
DTSTART;TZID=America/New_York:20250204T170000
DTEND;TZID=America/New_York:20250204T200000
DTSTAMP:20260419T110221
CREATED:20250107T191552Z
LAST-MODIFIED:20251215T134145Z
UID:10000636-1738688400-1738699200@boardwalkbillysnmb.com
SUMMARY:Owen Reeves
DESCRIPTION:
URL:https://boardwalkbillysnmb.com/event/owen-reeves-2/2025-02-04/
LOCATION:Boardwalk Billy’s\, 1407 13th Ave N\, North Myrtle Beach\, SC\, 29582\, United States
CATEGORIES:Live Music
END:VEVENT
BEGIN:VEVENT
DTSTART;TZID=America/New_York:20250203T170000
DTEND;TZID=America/New_York:20250203T200000
DTSTAMP:20260419T110221
CREATED:20250107T190658Z
LAST-MODIFIED:20250107T190658Z
UID:10000626-1738602000-1738612800@boardwalkbillysnmb.com
SUMMARY:Paul Grimshaw
DESCRIPTION:
URL:https://boardwalkbillysnmb.com/event/paul-grimshaw/2025-02-03/
LOCATION:Boardwalk Billy’s\, 1407 13th Ave N\, North Myrtle Beach\, SC\, 29582\, United States
CATEGORIES:Live Music
END:VEVENT
BEGIN:VEVENT
DTSTART;TZID=America/New_York:20250202T170000
DTEND;TZID=America/New_York:20250202T200000
DTSTAMP:20260419T110221
CREATED:20241230T134354Z
LAST-MODIFIED:20241230T134354Z
UID:10000625-1738515600-1738526400@boardwalkbillysnmb.com
SUMMARY:Eric Metts
DESCRIPTION:
URL:https://boardwalkbillysnmb.com/event/eric-metts-2/
LOCATION:Boardwalk Billy’s\, 1407 13th Ave N\, North Myrtle Beach\, SC\, 29582\, United States
CATEGORIES:Live Music
END:VEVENT
BEGIN:VEVENT
DTSTART;TZID=America/New_York:20250201T180000
DTEND;TZID=America/New_York:20250201T210000
DTSTAMP:20260419T110221
CREATED:20241230T134326Z
LAST-MODIFIED:20241230T134326Z
UID:10000624-1738432800-1738443600@boardwalkbillysnmb.com
SUMMARY:Tidal Wave
DESCRIPTION:
URL:https://boardwalkbillysnmb.com/event/tidal-wave-2/
LOCATION:Boardwalk Billy’s\, 1407 13th Ave N\, North Myrtle Beach\, SC\, 29582\, United States
CATEGORIES:Live Music
END:VEVENT
BEGIN:VEVENT
DTSTART;TZID=America/New_York:20250131T180000
DTEND;TZID=America/New_York:20250131T210000
DTSTAMP:20260419T110221
CREATED:20241230T134250Z
LAST-MODIFIED:20241230T134250Z
UID:10000623-1738346400-1738357200@boardwalkbillysnmb.com
SUMMARY:Brown & Brooks
DESCRIPTION:
URL:https://boardwalkbillysnmb.com/event/brown-brooks/
LOCATION:Boardwalk Billy’s\, 1407 13th Ave N\, North Myrtle Beach\, SC\, 29582\, United States
CATEGORIES:Live Music
END:VEVENT
BEGIN:VEVENT
DTSTART;TZID=America/New_York:20250130T170000
DTEND;TZID=America/New_York:20250130T200000
DTSTAMP:20260419T110221
CREATED:20241230T133735Z
LAST-MODIFIED:20241230T133735Z
UID:10000614-1738256400-1738267200@boardwalkbillysnmb.com
SUMMARY:Mark McKinney & Co.
DESCRIPTION:
URL:https://boardwalkbillysnmb.com/event/mark-mckinney-co/2025-01-30/
LOCATION:Boardwalk Billy’s\, 1407 13th Ave N\, North Myrtle Beach\, SC\, 29582\, United States
CATEGORIES:Live Music
END:VEVENT
BEGIN:VEVENT
DTSTART;TZID=America/New_York:20250129T170000
DTEND;TZID=America/New_York:20250129T200000
DTSTAMP:20260419T110221
CREATED:20241230T134218Z
LAST-MODIFIED:20241230T134218Z
UID:10000622-1738170000-1738180800@boardwalkbillysnmb.com
SUMMARY:Austin Perry Duo
DESCRIPTION:
URL:https://boardwalkbillysnmb.com/event/austin-perry-duo/
LOCATION:Boardwalk Billy’s\, 1407 13th Ave N\, North Myrtle Beach\, SC\, 29582\, United States
CATEGORIES:Live Music
END:VEVENT
BEGIN:VEVENT
DTSTART;TZID=America/New_York:20250128T170000
DTEND;TZID=America/New_York:20250128T200000
DTSTAMP:20260419T110221
CREATED:20241230T133618Z
LAST-MODIFIED:20250110T185240Z
UID:10000610-1738083600-1738094400@boardwalkbillysnmb.com
SUMMARY:Seth Thomas & Jonathan Locklear
DESCRIPTION:
URL:https://boardwalkbillysnmb.com/event/seth-thomas-jonathan-locklear/2025-01-28/
LOCATION:Boardwalk Billy’s\, 1407 13th Ave N\, North Myrtle Beach\, SC\, 29582\, United States
CATEGORIES:Live Music
END:VEVENT
BEGIN:VEVENT
DTSTART;TZID=America/New_York:20250127T170000
DTEND;TZID=America/New_York:20250127T200000
DTSTAMP:20260419T110221
CREATED:20241230T134149Z
LAST-MODIFIED:20241230T134149Z
UID:10000621-1737997200-1738008000@boardwalkbillysnmb.com
SUMMARY:Josh Watford
DESCRIPTION:
URL:https://boardwalkbillysnmb.com/event/josh-watford/
LOCATION:Boardwalk Billy’s\, 1407 13th Ave N\, North Myrtle Beach\, SC\, 29582\, United States
CATEGORIES:Live Music
END:VEVENT
BEGIN:VEVENT
DTSTART;TZID=America/New_York:20250126T170000
DTEND;TZID=America/New_York:20250126T200000
DTSTAMP:20260419T110221
CREATED:20250120T185757Z
LAST-MODIFIED:20250120T185757Z
UID:10000955-1737910800-1737921600@boardwalkbillysnmb.com
SUMMARY:Austin Floyd
DESCRIPTION:
URL:https://boardwalkbillysnmb.com/event/austin-floyd-2/
LOCATION:Boardwalk Billy’s\, 1407 13th Ave N\, North Myrtle Beach\, SC\, 29582\, United States
CATEGORIES:Live Music
END:VEVENT
BEGIN:VEVENT
DTSTART;TZID=America/New_York:20250125T180000
DTEND;TZID=America/New_York:20250125T210000
DTSTAMP:20260419T110221
CREATED:20241230T134120Z
LAST-MODIFIED:20241230T134120Z
UID:10000620-1737828000-1737838800@boardwalkbillysnmb.com
SUMMARY:City Lights Trio
DESCRIPTION:
URL:https://boardwalkbillysnmb.com/event/city-lights-trio/
LOCATION:Boardwalk Billy’s\, 1407 13th Ave N\, North Myrtle Beach\, SC\, 29582\, United States
CATEGORIES:Live Music
END:VEVENT
BEGIN:VEVENT
DTSTART;TZID=America/New_York:20250124T180000
DTEND;TZID=America/New_York:20250124T210000
DTSTAMP:20260419T110221
CREATED:20241230T133657Z
LAST-MODIFIED:20241230T133657Z
UID:10000612-1737741600-1737752400@boardwalkbillysnmb.com
SUMMARY:Rob Cole
DESCRIPTION:
URL:https://boardwalkbillysnmb.com/event/rob-cole/2025-01-24/
LOCATION:Boardwalk Billy’s\, 1407 13th Ave N\, North Myrtle Beach\, SC\, 29582\, United States
CATEGORIES:Live Music
END:VEVENT
BEGIN:VEVENT
DTSTART;TZID=America/New_York:20250123T170000
DTEND;TZID=America/New_York:20250123T200000
DTSTAMP:20260419T110221
CREATED:20241230T132957Z
LAST-MODIFIED:20241230T132957Z
UID:10000597-1737651600-1737662400@boardwalkbillysnmb.com
SUMMARY:Stan Gregory
DESCRIPTION:
URL:https://boardwalkbillysnmb.com/event/stan-gregory-3/2025-01-23/
LOCATION:Boardwalk Billy’s\, 1407 13th Ave N\, North Myrtle Beach\, SC\, 29582\, United States
CATEGORIES:Live Music
END:VEVENT
BEGIN:VEVENT
DTSTART;TZID=America/New_York:20250122T170000
DTEND;TZID=America/New_York:20250122T200000
DTSTAMP:20260419T110221
CREATED:20241230T133316Z
LAST-MODIFIED:20241230T133338Z
UID:10000604-1737565200-1737576000@boardwalkbillysnmb.com
SUMMARY:Randy Atwood Duo
DESCRIPTION:
URL:https://boardwalkbillysnmb.com/event/randy-atwood-duo/2025-01-22/
LOCATION:Boardwalk Billy’s\, 1407 13th Ave N\, North Myrtle Beach\, SC\, 29582\, United States
CATEGORIES:Live Music
END:VEVENT
BEGIN:VEVENT
DTSTART;TZID=America/New_York:20250121T170000
DTEND;TZID=America/New_York:20250121T200000
DTSTAMP:20260419T110221
CREATED:20241230T134053Z
LAST-MODIFIED:20241230T134053Z
UID:10000619-1737478800-1737489600@boardwalkbillysnmb.com
SUMMARY:Owen Reeves
DESCRIPTION:
URL:https://boardwalkbillysnmb.com/event/owen-reeves/
LOCATION:Boardwalk Billy’s\, 1407 13th Ave N\, North Myrtle Beach\, SC\, 29582\, United States
CATEGORIES:Live Music
END:VEVENT
BEGIN:VEVENT
DTSTART;TZID=America/New_York:20250120T170000
DTEND;TZID=America/New_York:20250120T200000
DTSTAMP:20260419T110221
CREATED:20241230T134026Z
LAST-MODIFIED:20241230T134026Z
UID:10000618-1737392400-1737403200@boardwalkbillysnmb.com
SUMMARY:Randy McQuay
DESCRIPTION:
URL:https://boardwalkbillysnmb.com/event/randy-mcquay/
LOCATION:Boardwalk Billy’s\, 1407 13th Ave N\, North Myrtle Beach\, SC\, 29582\, United States
CATEGORIES:Live Music
END:VEVENT
BEGIN:VEVENT
DTSTART;TZID=America/New_York:20250119T170000
DTEND;TZID=America/New_York:20250119T200000
DTSTAMP:20260419T110221
CREATED:20241230T133957Z
LAST-MODIFIED:20241230T133957Z
UID:10000617-1737306000-1737316800@boardwalkbillysnmb.com
SUMMARY:Prettier Than Matt
DESCRIPTION:
URL:https://boardwalkbillysnmb.com/event/prettier-than-matt-2/
LOCATION:Boardwalk Billy’s\, 1407 13th Ave N\, North Myrtle Beach\, SC\, 29582\, United States
CATEGORIES:Live Music
END:VEVENT
BEGIN:VEVENT
DTSTART;TZID=America/New_York:20250118T180000
DTEND;TZID=America/New_York:20250118T210000
DTSTAMP:20260419T110221
CREATED:20241230T133927Z
LAST-MODIFIED:20241230T133927Z
UID:10000616-1737223200-1737234000@boardwalkbillysnmb.com
SUMMARY:Roadtrip Radio Duo
DESCRIPTION:
URL:https://boardwalkbillysnmb.com/event/roadtrip-radio-duo/
LOCATION:Boardwalk Billy’s\, 1407 13th Ave N\, North Myrtle Beach\, SC\, 29582\, United States
CATEGORIES:Live Music
END:VEVENT
BEGIN:VEVENT
DTSTART;TZID=America/New_York:20250117T180000
DTEND;TZID=America/New_York:20250117T210000
DTSTAMP:20260419T110221
CREATED:20241230T133805Z
LAST-MODIFIED:20241230T133805Z
UID:10000615-1737136800-1737147600@boardwalkbillysnmb.com
SUMMARY:If Birds Could Fly
DESCRIPTION:
URL:https://boardwalkbillysnmb.com/event/if-birds-could-fly/
LOCATION:Boardwalk Billy’s\, 1407 13th Ave N\, North Myrtle Beach\, SC\, 29582\, United States
CATEGORIES:Live Music
END:VEVENT
BEGIN:VEVENT
DTSTART;TZID=America/New_York:20250116T170000
DTEND;TZID=America/New_York:20250116T200000
DTSTAMP:20260419T110221
CREATED:20241230T133735Z
LAST-MODIFIED:20241230T133735Z
UID:10000613-1737046800-1737057600@boardwalkbillysnmb.com
SUMMARY:Mark McKinney & Co.
DESCRIPTION:
URL:https://boardwalkbillysnmb.com/event/mark-mckinney-co/2025-01-16/
LOCATION:Boardwalk Billy’s\, 1407 13th Ave N\, North Myrtle Beach\, SC\, 29582\, United States
CATEGORIES:Live Music
END:VEVENT
BEGIN:VEVENT
DTSTART;TZID=America/New_York:20250115T170000
DTEND;TZID=America/New_York:20250115T200000
DTSTAMP:20260419T110221
CREATED:20241230T133657Z
LAST-MODIFIED:20241230T133657Z
UID:10000611-1736960400-1736971200@boardwalkbillysnmb.com
SUMMARY:Rob Cole
DESCRIPTION:
URL:https://boardwalkbillysnmb.com/event/rob-cole/2025-01-15/
LOCATION:Boardwalk Billy’s\, 1407 13th Ave N\, North Myrtle Beach\, SC\, 29582\, United States
CATEGORIES:Live Music
END:VEVENT
END:VCALENDAR