BEGIN:VCALENDAR
VERSION:2.0
PRODID:-//Boardwalk Billy&#039;s - ECPv6.15.20//NONSGML v1.0//EN
CALSCALE:GREGORIAN
METHOD:PUBLISH
X-ORIGINAL-URL:https://boardwalkbillysnmb.com
X-WR-CALDESC:Events for Boardwalk Billy&#039;s
REFRESH-INTERVAL;VALUE=DURATION:PT1H
X-Robots-Tag:noindex
X-PUBLISHED-TTL:PT1H
BEGIN:VTIMEZONE
TZID:America/New_York
BEGIN:DAYLIGHT
TZOFFSETFROM:-0500
TZOFFSETTO:-0400
TZNAME:EDT
DTSTART:20240310T070000
END:DAYLIGHT
BEGIN:STANDARD
TZOFFSETFROM:-0400
TZOFFSETTO:-0500
TZNAME:EST
DTSTART:20241103T060000
END:STANDARD
BEGIN:DAYLIGHT
TZOFFSETFROM:-0500
TZOFFSETTO:-0400
TZNAME:EDT
DTSTART:20250309T070000
END:DAYLIGHT
BEGIN:STANDARD
TZOFFSETFROM:-0400
TZOFFSETTO:-0500
TZNAME:EST
DTSTART:20251102T060000
END:STANDARD
BEGIN:DAYLIGHT
TZOFFSETFROM:-0500
TZOFFSETTO:-0400
TZNAME:EDT
DTSTART:20260308T070000
END:DAYLIGHT
BEGIN:STANDARD
TZOFFSETFROM:-0400
TZOFFSETTO:-0500
TZNAME:EST
DTSTART:20261101T060000
END:STANDARD
END:VTIMEZONE
BEGIN:VEVENT
DTSTART;TZID=America/New_York:20250301T180000
DTEND;TZID=America/New_York:20250301T210000
DTSTAMP:20260421T133310
CREATED:20250107T203940Z
LAST-MODIFIED:20251028T142557Z
UID:10000828-1740852000-1740862800@boardwalkbillysnmb.com
SUMMARY:Tidal Wave
DESCRIPTION:
URL:https://boardwalkbillysnmb.com/event/tidal-wave-3/2025-03-01/
LOCATION:Boardwalk Billy’s\, 1407 13th Ave N\, North Myrtle Beach\, SC\, 29582\, United States
CATEGORIES:Live Music
END:VEVENT
BEGIN:VEVENT
DTSTART;TZID=America/New_York:20250302T170000
DTEND;TZID=America/New_York:20250302T200000
DTSTAMP:20260421T133310
CREATED:20250107T204219Z
LAST-MODIFIED:20250107T204219Z
UID:10000837-1740934800-1740945600@boardwalkbillysnmb.com
SUMMARY:William King
DESCRIPTION:
URL:https://boardwalkbillysnmb.com/event/william-king-2/2025-03-02/
LOCATION:Boardwalk Billy’s\, 1407 13th Ave N\, North Myrtle Beach\, SC\, 29582\, United States
CATEGORIES:Live Music
END:VEVENT
BEGIN:VEVENT
DTSTART;TZID=America/New_York:20250303T170000
DTEND;TZID=America/New_York:20250303T200000
DTSTAMP:20260421T133310
CREATED:20250107T202410Z
LAST-MODIFIED:20250107T202410Z
UID:10000800-1741021200-1741032000@boardwalkbillysnmb.com
SUMMARY:Randy McQuay
DESCRIPTION:
URL:https://boardwalkbillysnmb.com/event/randy-mcquay-2/2025-03-03/
LOCATION:Boardwalk Billy’s\, 1407 13th Ave N\, North Myrtle Beach\, SC\, 29582\, United States
CATEGORIES:Live Music
END:VEVENT
BEGIN:VEVENT
DTSTART;TZID=America/New_York:20250304T050000
DTEND;TZID=America/New_York:20250304T210000
DTSTAMP:20260421T133310
CREATED:20250219T133442Z
LAST-MODIFIED:20250219T133442Z
UID:10000959-1741064400-1741122000@boardwalkbillysnmb.com
SUMMARY:Mardi Gras Party
DESCRIPTION:
URL:https://boardwalkbillysnmb.com/event/mardi-gras-party/
LOCATION:Boardwalk Billy’s\, 1407 13th Ave N\, North Myrtle Beach\, SC\, 29582\, United States
CATEGORIES:Live Music,Party
END:VEVENT
BEGIN:VEVENT
DTSTART;TZID=America/New_York:20250304T170000
DTEND;TZID=America/New_York:20250304T200000
DTSTAMP:20260421T133310
CREATED:20250107T192940Z
LAST-MODIFIED:20251215T134310Z
UID:10000673-1741107600-1741118400@boardwalkbillysnmb.com
SUMMARY:MMC
DESCRIPTION:
URL:https://boardwalkbillysnmb.com/event/mmc/2025-03-04/
LOCATION:Boardwalk Billy’s\, 1407 13th Ave N\, North Myrtle Beach\, SC\, 29582\, United States
CATEGORIES:Live Music
END:VEVENT
BEGIN:VEVENT
DTSTART;TZID=America/New_York:20250305T170000
DTEND;TZID=America/New_York:20250305T200000
DTSTAMP:20260421T133310
CREATED:20250107T192313Z
LAST-MODIFIED:20250107T192313Z
UID:10000654-1741194000-1741204800@boardwalkbillysnmb.com
SUMMARY:Randy Atwood Duo
DESCRIPTION:
URL:https://boardwalkbillysnmb.com/event/randy-atwood-duo-2/2025-03-05/
LOCATION:Boardwalk Billy’s\, 1407 13th Ave N\, North Myrtle Beach\, SC\, 29582\, United States
CATEGORIES:Live Music
END:VEVENT
BEGIN:VEVENT
DTSTART;TZID=America/New_York:20250306T180000
DTEND;TZID=America/New_York:20250306T210000
DTSTAMP:20260421T133310
CREATED:20250107T194052Z
LAST-MODIFIED:20251222T152026Z
UID:10000696-1741284000-1741294800@boardwalkbillysnmb.com
SUMMARY:Rob Cole
DESCRIPTION:
URL:https://boardwalkbillysnmb.com/event/rob-cole-3/2025-03-06/
LOCATION:Boardwalk Billy’s\, 1407 13th Ave N\, North Myrtle Beach\, SC\, 29582\, United States
CATEGORIES:Live Music
END:VEVENT
BEGIN:VEVENT
DTSTART;TZID=America/New_York:20250307T190000
DTEND;TZID=America/New_York:20250307T220000
DTSTAMP:20260421T133310
CREATED:20250107T204354Z
LAST-MODIFIED:20250107T204354Z
UID:10000841-1741374000-1741384800@boardwalkbillysnmb.com
SUMMARY:Prettier Than Matt
DESCRIPTION:
URL:https://boardwalkbillysnmb.com/event/prettier-than-matt-3/2025-03-07/
LOCATION:Boardwalk Billy’s\, 1407 13th Ave N\, North Myrtle Beach\, SC\, 29582\, United States
CATEGORIES:Live Music
END:VEVENT
BEGIN:VEVENT
DTSTART;TZID=America/New_York:20250308T190000
DTEND;TZID=America/New_York:20250308T220000
DTSTAMP:20260421T133310
CREATED:20250107T204505Z
LAST-MODIFIED:20250107T204505Z
UID:10000843-1741460400-1741471200@boardwalkbillysnmb.com
SUMMARY:Radio Source
DESCRIPTION:
URL:https://boardwalkbillysnmb.com/event/radio-source/
LOCATION:Boardwalk Billy’s\, 1407 13th Ave N\, North Myrtle Beach\, SC\, 29582\, United States
CATEGORIES:Live Music
END:VEVENT
BEGIN:VEVENT
DTSTART;TZID=America/New_York:20250309T130000
DTEND;TZID=America/New_York:20250309T160000
DTSTAMP:20260421T133310
CREATED:20250107T195608Z
LAST-MODIFIED:20250306T125055Z
UID:10000964-1741525200-1741536000@boardwalkbillysnmb.com
SUMMARY:Jimmy Roca
DESCRIPTION:
URL:https://boardwalkbillysnmb.com/event/jimmy-roca-2/2025-03-09/
LOCATION:Boardwalk Billy’s\, 1407 13th Ave N\, North Myrtle Beach\, SC\, 29582\, United States
CATEGORIES:Live Music
END:VEVENT
BEGIN:VEVENT
DTSTART;TZID=America/New_York:20250309T170000
DTEND;TZID=America/New_York:20250309T200000
DTSTAMP:20260421T133310
CREATED:20250306T125156Z
LAST-MODIFIED:20250306T125156Z
UID:10000965-1741539600-1741550400@boardwalkbillysnmb.com
SUMMARY:Trae Pierce & The T-Stones
DESCRIPTION:
URL:https://boardwalkbillysnmb.com/event/trae-pierce-the-t-stones/
LOCATION:Boardwalk Billy’s\, 1407 13th Ave N\, North Myrtle Beach\, SC\, 29582\, United States
CATEGORIES:Live Music
END:VEVENT
BEGIN:VEVENT
DTSTART;TZID=America/New_York:20250310T170000
DTEND;TZID=America/New_York:20250310T200000
DTSTAMP:20260421T133310
CREATED:20250305T130709Z
LAST-MODIFIED:20250305T130709Z
UID:10000963-1741626000-1741636800@boardwalkbillysnmb.com
SUMMARY:Randy McQuay
DESCRIPTION:
URL:https://boardwalkbillysnmb.com/event/randy-mcquay-3/
LOCATION:Boardwalk Billy’s\, 1407 13th Ave N\, North Myrtle Beach\, SC\, 29582\, United States
CATEGORIES:Live Music
END:VEVENT
BEGIN:VEVENT
DTSTART;TZID=America/New_York:20250311T170000
DTEND;TZID=America/New_York:20250311T200000
DTSTAMP:20260421T133310
CREATED:20250310T115317Z
LAST-MODIFIED:20250310T115317Z
UID:10000966-1741712400-1741723200@boardwalkbillysnmb.com
SUMMARY:Mark McKinney & Co.
DESCRIPTION:
URL:https://boardwalkbillysnmb.com/event/mark-mckinney-co-2/
LOCATION:Boardwalk Billy’s\, 1407 13th Ave N\, North Myrtle Beach\, SC\, 29582\, United States
CATEGORIES:Live Music
END:VEVENT
BEGIN:VEVENT
DTSTART;TZID=America/New_York:20250312T170000
DTEND;TZID=America/New_York:20250312T200000
DTSTAMP:20260421T133310
CREATED:20250107T204808Z
LAST-MODIFIED:20250310T115517Z
UID:10000967-1741798800-1741809600@boardwalkbillysnmb.com
SUMMARY:Ryan Newman
DESCRIPTION:
URL:https://boardwalkbillysnmb.com/event/ryan-newman/2025-03-12/
LOCATION:SC
CATEGORIES:Live Music
END:VEVENT
BEGIN:VEVENT
DTSTART;TZID=America/New_York:20250313T180000
DTEND;TZID=America/New_York:20250313T210000
DTSTAMP:20260421T133310
CREATED:20250107T200956Z
LAST-MODIFIED:20250107T200956Z
UID:10000768-1741888800-1741899600@boardwalkbillysnmb.com
SUMMARY:Stan Gregory
DESCRIPTION:
URL:https://boardwalkbillysnmb.com/event/stan-gregory-4/2025-03-13/
LOCATION:Boardwalk Billy’s\, 1407 13th Ave N\, North Myrtle Beach\, SC\, 29582\, United States
CATEGORIES:Live Music
END:VEVENT
BEGIN:VEVENT
DTSTART;TZID=America/New_York:20250314T190000
DTEND;TZID=America/New_York:20250314T220000
DTSTAMP:20260421T133310
CREATED:20250107T194052Z
LAST-MODIFIED:20251222T152026Z
UID:10000697-1741978800-1741989600@boardwalkbillysnmb.com
SUMMARY:Rob Cole
DESCRIPTION:
URL:https://boardwalkbillysnmb.com/event/rob-cole-3/2025-03-14/
LOCATION:Boardwalk Billy’s\, 1407 13th Ave N\, North Myrtle Beach\, SC\, 29582\, United States
CATEGORIES:Live Music
END:VEVENT
BEGIN:VEVENT
DTSTART;TZID=America/New_York:20250315T113000
DTEND;TZID=America/New_York:20250315T220000
DTSTAMP:20260421T133310
CREATED:20250228T123410Z
LAST-MODIFIED:20250228T123542Z
UID:10000960-1742038200-1742076000@boardwalkbillysnmb.com
SUMMARY:St. Patrick's Day Weekend Celebration
DESCRIPTION:
URL:https://boardwalkbillysnmb.com/event/st-patricks-day-weekend-celebration/2025-03-15/
LOCATION:Boardwalk Billy’s\, 1407 13th Ave N\, North Myrtle Beach\, SC\, 29582\, United States
CATEGORIES:Live Music,Party
END:VEVENT
BEGIN:VEVENT
DTSTART;TZID=America/New_York:20250315T190000
DTEND;TZID=America/New_York:20250315T220000
DTSTAMP:20260421T133310
CREATED:20250107T195126Z
LAST-MODIFIED:20251215T134402Z
UID:10000725-1742065200-1742076000@boardwalkbillysnmb.com
SUMMARY:If Birds Could Fly
DESCRIPTION:
URL:https://boardwalkbillysnmb.com/event/if-birds-could-fly-2/2025-03-15/
LOCATION:Boardwalk Billy’s\, 1407 13th Ave N\, North Myrtle Beach\, SC\, 29582\, United States
CATEGORIES:Live Music
END:VEVENT
BEGIN:VEVENT
DTSTART;TZID=America/New_York:20250316T113000
DTEND;TZID=America/New_York:20250316T220000
DTSTAMP:20260421T133310
CREATED:20250228T123410Z
LAST-MODIFIED:20250228T123542Z
UID:10000961-1742124600-1742162400@boardwalkbillysnmb.com
SUMMARY:St. Patrick's Day Weekend Celebration
DESCRIPTION:
URL:https://boardwalkbillysnmb.com/event/st-patricks-day-weekend-celebration/2025-03-16/
LOCATION:Boardwalk Billy’s\, 1407 13th Ave N\, North Myrtle Beach\, SC\, 29582\, United States
CATEGORIES:Live Music,Party
END:VEVENT
BEGIN:VEVENT
DTSTART;TZID=America/New_York:20250316T130000
DTEND;TZID=America/New_York:20250316T160000
DTSTAMP:20260421T133310
CREATED:20250107T205212Z
LAST-MODIFIED:20250430T165333Z
UID:10000854-1742130000-1742140800@boardwalkbillysnmb.com
SUMMARY:City Lights Band
DESCRIPTION:
URL:https://boardwalkbillysnmb.com/event/city-lights-band/
LOCATION:Boardwalk Billy’s\, 1407 13th Ave N\, North Myrtle Beach\, SC\, 29582\, United States
CATEGORIES:Live Music
END:VEVENT
BEGIN:VEVENT
DTSTART;TZID=America/New_York:20250316T180000
DTEND;TZID=America/New_York:20250316T210000
DTSTAMP:20260421T133310
CREATED:20250107T205337Z
LAST-MODIFIED:20250430T165132Z
UID:10000857-1742148000-1742158800@boardwalkbillysnmb.com
SUMMARY:Craig Sorrells Project
DESCRIPTION:
URL:https://boardwalkbillysnmb.com/event/craig-sorrells-project/
LOCATION:Boardwalk Billy’s\, 1407 13th Ave N\, North Myrtle Beach\, SC\, 29582\, United States
CATEGORIES:Live Music
END:VEVENT
BEGIN:VEVENT
DTSTART;TZID=America/New_York:20250317T113000
DTEND;TZID=America/New_York:20250317T210000
DTSTAMP:20260421T133310
CREATED:20250228T123410Z
LAST-MODIFIED:20250228T123542Z
UID:10000962-1742211000-1742245200@boardwalkbillysnmb.com
SUMMARY:St. Patrick's Day Weekend Celebration
DESCRIPTION:
URL:https://boardwalkbillysnmb.com/event/st-patricks-day-weekend-celebration/2025-03-17/
LOCATION:Boardwalk Billy’s\, 1407 13th Ave N\, North Myrtle Beach\, SC\, 29582\, United States
CATEGORIES:Live Music,Party
END:VEVENT
BEGIN:VEVENT
DTSTART;TZID=America/New_York:20250317T130000
DTEND;TZID=America/New_York:20250317T160000
DTSTAMP:20260421T133310
CREATED:20250107T192940Z
LAST-MODIFIED:20251215T134310Z
UID:10000674-1742216400-1742227200@boardwalkbillysnmb.com
SUMMARY:MMC
DESCRIPTION:
URL:https://boardwalkbillysnmb.com/event/mmc/2025-03-17/
LOCATION:Boardwalk Billy’s\, 1407 13th Ave N\, North Myrtle Beach\, SC\, 29582\, United States
CATEGORIES:Live Music
END:VEVENT
BEGIN:VEVENT
DTSTART;TZID=America/New_York:20250318T180000
DTEND;TZID=America/New_York:20250318T210000
DTSTAMP:20260421T133310
CREATED:20250107T191552Z
LAST-MODIFIED:20251215T134145Z
UID:10000637-1742320800-1742331600@boardwalkbillysnmb.com
SUMMARY:Owen Reeves
DESCRIPTION:
URL:https://boardwalkbillysnmb.com/event/owen-reeves-2/2025-03-18/
LOCATION:Boardwalk Billy’s\, 1407 13th Ave N\, North Myrtle Beach\, SC\, 29582\, United States
CATEGORIES:Live Music
END:VEVENT
BEGIN:VEVENT
DTSTART;TZID=America/New_York:20250319T180000
DTEND;TZID=America/New_York:20250319T210000
DTSTAMP:20260421T133310
CREATED:20250107T192313Z
LAST-MODIFIED:20250107T192313Z
UID:10000655-1742407200-1742418000@boardwalkbillysnmb.com
SUMMARY:Randy Atwood Duo
DESCRIPTION:
URL:https://boardwalkbillysnmb.com/event/randy-atwood-duo-2/2025-03-19/
LOCATION:Boardwalk Billy’s\, 1407 13th Ave N\, North Myrtle Beach\, SC\, 29582\, United States
CATEGORIES:Live Music
END:VEVENT
BEGIN:VEVENT
DTSTART;TZID=America/New_York:20250320T180000
DTEND;TZID=America/New_York:20250320T210000
DTSTAMP:20260421T133310
CREATED:20250107T200956Z
LAST-MODIFIED:20250107T200956Z
UID:10000769-1742493600-1742504400@boardwalkbillysnmb.com
SUMMARY:Stan Gregory
DESCRIPTION:
URL:https://boardwalkbillysnmb.com/event/stan-gregory-4/2025-03-20/
LOCATION:Boardwalk Billy’s\, 1407 13th Ave N\, North Myrtle Beach\, SC\, 29582\, United States
CATEGORIES:Live Music
END:VEVENT
BEGIN:VEVENT
DTSTART;TZID=America/New_York:20250321T190000
DTEND;TZID=America/New_York:20250321T220000
DTSTAMP:20260421T133310
CREATED:20250107T205949Z
LAST-MODIFIED:20250107T205949Z
UID:10000868-1742583600-1742594400@boardwalkbillysnmb.com
SUMMARY:Grocery Store Gentlemen
DESCRIPTION:
URL:https://boardwalkbillysnmb.com/event/grocery-store-gentlemen-2/2025-03-21/
LOCATION:Boardwalk Billy’s\, 1407 13th Ave N\, North Myrtle Beach\, SC\, 29582\, United States
CATEGORIES:Live Music
END:VEVENT
BEGIN:VEVENT
DTSTART;TZID=America/New_York:20250322T190000
DTEND;TZID=America/New_York:20250322T220000
DTSTAMP:20260421T133310
CREATED:20250107T210243Z
LAST-MODIFIED:20250107T210243Z
UID:10000871-1742670000-1742680800@boardwalkbillysnmb.com
SUMMARY:Bullfrog
DESCRIPTION:
URL:https://boardwalkbillysnmb.com/event/bullfrog-2/2025-03-22/
LOCATION:Boardwalk Billy’s\, 1407 13th Ave N\, North Myrtle Beach\, SC\, 29582\, United States
CATEGORIES:Live Music
END:VEVENT
BEGIN:VEVENT
DTSTART;TZID=America/New_York:20250323T180000
DTEND;TZID=America/New_York:20250323T210000
DTSTAMP:20260421T133310
CREATED:20250107T201935Z
LAST-MODIFIED:20250107T201935Z
UID:10000793-1742752800-1742763600@boardwalkbillysnmb.com
SUMMARY:King Tide
DESCRIPTION:
URL:https://boardwalkbillysnmb.com/event/king-tide/2025-03-23/
LOCATION:Boardwalk Billy’s\, 1407 13th Ave N\, North Myrtle Beach\, SC\, 29582\, United States
CATEGORIES:Live Music
END:VEVENT
BEGIN:VEVENT
DTSTART;TZID=America/New_York:20250324T180000
DTEND;TZID=America/New_York:20250324T210000
DTSTAMP:20260421T133310
CREATED:20250318T162536Z
LAST-MODIFIED:20250318T162536Z
UID:10000968-1742839200-1742850000@boardwalkbillysnmb.com
SUMMARY:Matt Parker Duo
DESCRIPTION:
URL:https://boardwalkbillysnmb.com/event/matt-parker-duo/
LOCATION:Boardwalk Billy’s\, 1407 13th Ave N\, North Myrtle Beach\, SC\, 29582\, United States
CATEGORIES:Live Music
END:VEVENT
END:VCALENDAR